BEGIN:VCALENDAR
VERSION:2.0
PRODID:-//RelNet Technológia Kft. - ECPv5.16.4//NONSGML v1.0//EN
CALSCALE:GREGORIAN
METHOD:PUBLISH
XXXXXXXXXXXXXXXXXXXXXXXXXXXXXXXXXXXXXX
XXXXXXXXXXXXXXXXXXXXXXXXXXXXXXXXXXXXX
XXXXXXXXXXXXXXXXXXXXXXXXXXXXXXXXXXXXXXXXXXXXXXXXX
BEGIN:VTIMEZONE
TZID:Europe/Budapest
BEGIN:DAYLIGHT
TZOFFSETFROM:+0100
TZOFFSETTO:+0200
TZNAME:CEST
DTSTART:20190331T010000
END:DAYLIGHT
BEGIN:STANDARD
TZOFFSETFROM:+0200
TZOFFSETTO:+0100
TZNAME:CET
DTSTART:20191027T010000
END:STANDARD
END:VTIMEZONE
BEGIN:VEVENT
DTSTART;VALUE=DATE:20190308
DTEND;VALUE=DATE:20190309
DTSTAMP:20260420T053342
CREATED:20190205T093322Z
LAST-MODIFIED:20190311T154041Z
UID:1529-1552003200-1552089599@relnet.hu
SUMMARY:Juniper Networks – Haladó Junos Security oktatás
DESCRIPTION:2019. március 8-án kerül megrendezésre a Haladó Junos Security egynapos oktatás elméleti\, gyakorlati és laborfeladatokat is tartalmazó részekkel. Az előadók Csongrádi Eszter és Kőrössi Ádám\, a RelNet Technológia Kft. rendszermérnökei lesznek. \nAz oktatásokon való részvételhez szükséges előfeltételek: \n\nBevezetés a Junos operációs rendszerbe I.\nBevezetés a Junos operációs rendszerbe II.\nJunos Security alapismeretek I.\nJunos Security alapismeretek II.\n\n2019. március 8.\nHaladó Junos Security oktatás tematikája: AppSecure elmélet  \n\nÁttekintés\nAppID\nApplication szignatúra csomag telepítése\nApplication System Cache\n\nAppSecure implementáció \n\nAppTrack\nAppFw\nAppQos\nAdvanced Policy Based Routing\n\nSky ATP \n\nÁttekintés\nSky ATP Képességek\nSky ATP beállítása\n\nJunos Space \n\nÁttekintés\, komponensek\nSecurity Director\n\nHaladó NAT \n\nPersistent NAT\nDNS Doctoring\nIPv6 with NAT\nHibakeresés: NAT\n\n  A férőhelyek száma korlátozott\, a regisztrációt a jelentkezés sorrendjében tudjuk elfogadni! \nAz előadások magyar nyelvűek. Az oktatás 9:00-től 17:00-ig tart. \nIdőpont: 2019. március 8. Helyszín: Az oktatás helyszíne a RelNet oktatóterme Cím: 1047 Budapest\, Váci út 71. – Az épület és az udvar bejárata is a Perényi Zsigmond utcáról nyílik.Parkolás: Díjmentes a belső udvaron és a környező utcákban is. Részvételi díj: nettó 149.900 Ft/fő/nap +ÁFA\n \nTöbb jelentkező vagy több tréningen való részvételi szándék esetén kérje egyedi ajánlatunk! \nKapcsolódó oktatások: \n2019. március 4. Bevezetés a Junos operációs rendszerbe I.2019. március 5. Bevezetés a Junos operációs rendszerbe II.2019. március 6. Junos Security alapismeretek I.2019. március 7. Junos Security alapismeretek II. \nVegyen részt a teljes Juniper Networks oktatássorozaton és kérje kedvező csomagárunk! \nTovábbi oktatásaink: \n2019. február 6-7. Extreme Networks – Extreme Wireless WiNG 2019. február 27. FortiGate Üzemeltetési alapismeretek I. 2019. február 28. FortiGate Üzemeltetési alapismeretek II. 2019. március  1.  FortiClient és EMS 2019. március 11. FortiGate Infrastructure: Haladó Üzemeltetési ismeretek I. 2019. március 12. FortiGate Infrastructure: Haladó Üzemeltetési ismeretek II. 2019. március 13. FortiManager 2019. március 14. FortiAnalyzer Az Ön igényeire szabott oktatásra van szüksége? Kérje ajánlatunk!
URL:https://relnet.hu/en/rendezveny/juniper-networks-halado-junos-security-oktatas/
LOCATION:RelNet conference room\, Váci út 71.\, Budapest\, 1047\, Magyarország
CATEGORIES:Gyártó,Juniper Networks,JUNOS,Oktatás,Végfelhasználó,Viszonteladó
ATTACH;FMTTYPE=image/png:https://relnet.hu/wp-content/uploads/2019/02/Halado_Junos_Sec.png
ORGANIZER;CN="RelNet%20Technology%20Ltd.":MAILTO:marketing@relnet.hu
GEO:47.572774139773;19.081058942328
X-APPLE-STRUCTURED-LOCATION;VALUE=URI;X-ADDRESS=RelNet conference room Váci út 71. Budapest 1047 Magyarország;X-APPLE-RADIUS=500;X-TITLE=Váci út 71.:geo:19.081058942328,47.572774139773
END:VEVENT
END:VCALENDAR