BEGIN:VCALENDAR
VERSION:2.0
PRODID:-//RelNet Technológia Kft. - ECPv5.16.4//NONSGML v1.0//EN
CALSCALE:GREGORIAN
METHOD:PUBLISH
XXXXXXXXXXXXXXXXXXXXXXXXXXXXXXXXXXXXXX
XXXXXXXXXXXXXXXXXXXXXXXXXXXXXXXXXXXXX
XXXXXXXXXXXXXXXXXXXXXXXXXXXXXXXXXXXXXXXXXXXXXXXXX
BEGIN:VTIMEZONE
TZID:Europe/Budapest
BEGIN:DAYLIGHT
TZOFFSETFROM:+0100
TZOFFSETTO:+0200
TZNAME:CEST
DTSTART:20190331T010000
END:DAYLIGHT
BEGIN:STANDARD
TZOFFSETFROM:+0200
TZOFFSETTO:+0100
TZNAME:CET
DTSTART:20191027T010000
END:STANDARD
END:VTIMEZONE
BEGIN:VEVENT
DTSTART;TZID=Europe/Budapest:20190620T080000
DTEND;TZID=Europe/Budapest:20190620T160000
DTSTAMP:20260420T021829
CREATED:20190605T144825Z
LAST-MODIFIED:20190619T100608Z
UID:2673-1561017600-1561046400@relnet.hu
SUMMARY:Juniper Networks Sales & Technical Security Workshop for Juniper Partners
DESCRIPTION:Juniper Networks is continuously enhancing its\, second to none\, security offer to provide the best possible protection against the evolving cyber threat landscape with advanced threat detection\, consolidated security analytics and one-touch threat mitigation. In this session you will be given an overview of the Juniper Networks security vision and strategy during the sales session. We will cover how Juniper’s security proposition addresses the enterprise cloud transformation and how we are revolutionizing SecOps to address the skill gap with SoC automation. \nIn the tech session\, we will cover the following topics: \n•           Simplifying SecOps with Juniper Networks Connected Security Platform and our open Integration strategy. \n•           Antimalware everywhere – learn about Juniper Networks latest Advanced Threat Prevention platform JATP with a live demo \n•           Juniper Networks security vision for multi cloud infrastructure and how to unify security across multiple domains such as campus\, private cloud DC and public cloud \n•           Enterprise use cases for management and next-gen branch connectivity. \n08:00 – 09:00    Registration & Refreshments \n            Sales Track \n09:00 – 09:30    Security Exec Overview \n\nCybersecurity and the evolving Threat Landscape\nThe Juniper Security Vision\nPreparing for a Secure & Multicloud Future\n\n09:30 – 10:30    Juniper Security Portfolio for Sales – Key Products and Positioning \n\nNext-Gen Firewall and Unified Threat Management\nAdvanced Malware Detection\, Prevention and Response\nPutting it all together – Automation\nSales Opportunities and Tools\n\n10:30 – 10:45    Coffee Break \n            Technical Track \n10:45 – 11:45    Simplifying Security Operations \n\nThe customer perspective\nSecurity Orchestration\, Automation and Response workflow\nSimplifying security management (Security Director)\nDemo: How can Connected Security Platform help?\n\n11:45-12:30      Threat Analytics \n\nCurrent threat landscape overview\nAdvanced threat prevention with JATP & SkyATP\nAnti-malware use-cases & BOM building – real world scenarios\n\n12:30-13:15      Lunch \n13:15-13:45       Threat Analytics (cont.) \n\nThe role of the SIEM – Juniper Secure Analytics\nDemo: JATP in action!\n\n13:45-14:45      Multi-cloud Security \n\nCloud security Essentials\nWhat is Intent-based policy?\nContrail security revealed – it’s all related!\nDemo: Why does micro-segmentation matter?\n\n14:45-15:00      Break \n15:00-15:30      Security Roadmap \n15:30 – 16:00    Wrap-up / Q&A \n\n \nSpeakers: Michael Berkovitch (Cyber Security Sales & Partner Sales Leader\, EMEA\, Juniper) and Jaume Baltasar Galiana (Security Partner Systems Engineer\, EMEA\, Juniper). \nRegistrer now on Juniper’s partnesite! \nREGISTER NOW
URL:https://relnet.hu/en/rendezveny/juniper-networks-sales-technical-security-workshop-for-juniper-partners/
LOCATION:RelNet conference room\, Váci út 71.\, Budapest\, 1047\, Magyarország
CATEGORIES:Event,JATP,Juniper Networks,RelNet,Reseller,Training,Vendor
ATTACH;FMTTYPE=image/png:https://relnet.hu/wp-content/uploads/2019/06/SalesTechWorkshop.png
GEO:47.572774139773;19.081058942328
X-APPLE-STRUCTURED-LOCATION;VALUE=URI;X-ADDRESS=RelNet conference room Váci út 71. Budapest 1047 Magyarország;X-APPLE-RADIUS=500;X-TITLE=Váci út 71.:geo:19.081058942328,47.572774139773
END:VEVENT
END:VCALENDAR