BEGIN:VCALENDAR
VERSION:2.0
PRODID:-//RelNet Technológia Kft. - ECPv5.16.4//NONSGML v1.0//EN
CALSCALE:GREGORIAN
METHOD:PUBLISH
XXXXXXXXXXXXXXXXXXXXXXXXXXXXXXXXXXXXXX
XXXXXXXXXXXXXXXXXXXXXXXXXXXXXXXXXXXXX
XXXXXXXXXXXXXXXXXXXXXXXXXXXXXXXXXXXXXXXXXXXXXXXXX
BEGIN:VTIMEZONE
TZID:Europe/Budapest
BEGIN:DAYLIGHT
TZOFFSETFROM:+0100
TZOFFSETTO:+0200
TZNAME:CEST
DTSTART:20200329T010000
END:DAYLIGHT
BEGIN:STANDARD
TZOFFSETFROM:+0200
TZOFFSETTO:+0100
TZNAME:CET
DTSTART:20201025T010000
END:STANDARD
END:VTIMEZONE
BEGIN:VEVENT
DTSTART;TZID=Europe/Budapest:20200702T093000
DTEND;TZID=Europe/Budapest:20200702T120000
DTSTAMP:20260420T032445
CREATED:20200626T183959Z
LAST-MODIFIED:20200626T183959Z
UID:7333-1593682200-1593691200@relnet.hu
SUMMARY:Juniper Virtual Sales Bootcamp
DESCRIPTION:2020. július 2-9 között\, 4 napon keresztül tartja első virtuális értékesítési Bootcamp-jét a Juniper Networks a DACH és a közép-kelet-európai régió számára. \nA bootcamp virtuális\, így a tartalom 4 részből áll\, amely részek mindegyike különböző napon lesz átadva a hallgatóknak.\nAz utolsó napon a résztvevők vizsgát tehetnek\, mellyel minősített Juniper Networks értékesítési szakemberré válhatnak. \n  \nA 4 nap témái \n\nRövid bevezetés – a Juniper bemutatása\nA változó követelmények hálózatai:\n\n     o Mist – MI-vezérelt vezeték nélküli megoldás \n     o A Juniper megoldások alapjai \n     o IT infrastruktúra\, hozzáférési hálózatok \n     o Adatközponti megoldások \n     o A biztonsági technológiák \n     o SD-WAN\, SD-LAN\, SD-Branch \n     o Útválasztás \n\nHáttérinformáció – Mit\, hogyan és hol (partnerportál\, konfigurátor\, Learning Academy)\nVizsga\n\n  \nFontos: Hozzáférés a Juniper Learning Academy oldalához a vizsga előfeltétele.\nHa még nincs partner portál és Learning Academy hozzáférése\, a \nchannel-support-emea@juniper.net emailcímen igényelhet. \n  \n\n\nKérjük\, mentse el naptárába az időpontokat!\n2020. július 2. 9:30-12:00 \n2020. július 3. 9:30-12:00 \n2020. július 7. 9:30-12:00 \n2020. július 9. 9:30-12:00 \nRegisztráljon most!\nREGISZTRÁCIÓ\n\n 
URL:https://relnet.hu/en/rendezveny/juniper-virtual-sales-bootcamp/2020-07-02/
LOCATION:Virtual event
CATEGORIES:adatközpont,Gyártó,Juniper Networks,Oktatás,Rendezvény,Viszonteladó,Webinárium,Wifi
ATTACH;FMTTYPE=image/png:https://relnet.hu/wp-content/uploads/2020/06/11.png
END:VEVENT
END:VCALENDAR