BEGIN:VCALENDAR
VERSION:2.0
PRODID:-//RelNet Technológia Kft. - ECPv5.16.4//NONSGML v1.0//EN
CALSCALE:GREGORIAN
METHOD:PUBLISH
XXXXXXXXXXXXXXXXXXXXXXXXXXXXXXXXXXXXXX
XXXXXXXXXXXXXXXXXXXXXXXXXXXXXXXXXXXXX
XXXXXXXXXXXXXXXXXXXXXXXXXXXXXXXXXXXXXXXXXXXXXXXXX
BEGIN:VTIMEZONE
TZID:Europe/Budapest
BEGIN:DAYLIGHT
TZOFFSETFROM:+0100
TZOFFSETTO:+0200
TZNAME:CEST
DTSTART:20250330T010000
END:DAYLIGHT
BEGIN:STANDARD
TZOFFSETFROM:+0200
TZOFFSETTO:+0100
TZNAME:CET
DTSTART:20251026T010000
END:STANDARD
END:VTIMEZONE
BEGIN:VEVENT
DTSTART;TZID=Europe/Budapest:20250408T130000
DTEND;TZID=Europe/Budapest:20250408T140000
DTSTAMP:20260420T032558
CREATED:20250401T120526Z
LAST-MODIFIED:20250401T120526Z
UID:37519-1744117200-1744120800@relnet.hu
SUMMARY:Katasztrófa utáni helyreállítás az Acronisszal - Demó
DESCRIPTION:Az Acronis mérnökei által vezetett webináriumon megtudhatja\, miként nyújthat Ön szolgáltatóként (MSP-ként) biztonságos katasztrófa utáni helyreállítást egyetlen integrált kibervédelmi megoldással. \nREGISZTRÁCIÓ\n\n  \nIdőpont: 2025. április 8. (kedd) | 13:00-14:00 \nKibertámadások\, természeti katasztrófák vagy rendszerhibák váratlanul megbéníthatják az Ön ügyfeleinek üzletmenetét. Menedzselt szolgáltatóként stabil katasztrófa utáni helyreállítási (DR) megoldásra van szüksége\, hogy biztosítani tudja ügyfelei folyamatos működését\, és megvédje saját jó hírnevét. \nVegyen részt a mérnököknek szóló webináriumon\, és fedezze fel\, miként nyújt teljeskörű DR-stratégiát az Acronis Cyber Protect Cloud egyetlen központi platformon. \nAz élő demó témái: \n\nAcronis Disaster Recovery szolgáltatás nyújtása ügyfelek számára\nBiztonságos átállási (failover) infrastruktúra kialakítása és kezelése\nAutomatikus átállási tesztek elvégzése\nVisszaállás (failback) felgyorsítása\n\nAz Acronis integrált megközelítése csökkenti a komplexitást\, véd a fenyegetések ellen\, és lehetővé teszi az ügyfelek magasabb színvonalú kiszolgálását. Az Acronis szakértői lépésről lépésre bemutatják\, miként illeszkedik az Acronis Cyber Protect Cloud a meglévő munkafolyamatokba. \nElőadó: Boris Kazakov\, Solutions Engineer\, Acronis
URL:https://relnet.hu/en/rendezveny/katasztrofa-utani-helyreallitas-az-acronisszal-demo/
LOCATION:Virtual event
CATEGORIES:Acronis,Cyber Protection,Végfelhasználó,Viszonteladó,Webinárium
ATTACH;FMTTYPE=image/jpeg:https://relnet.hu/wp-content/uploads/2025/04/AcronisHelyreallitasDemo-min.jpg
END:VEVENT
END:VCALENDAR