BEGIN:VCALENDAR
VERSION:2.0
PRODID:-//RelNet Technológia Kft. - ECPv5.16.4//NONSGML v1.0//EN
CALSCALE:GREGORIAN
METHOD:PUBLISH
XXXXXXXXXXXXXXXXXXXXXXXXXXXXXXXXXXXXXX
XXXXXXXXXXXXXXXXXXXXXXXXXXXXXXXXXXXXX
XXXXXXXXXXXXXXXXXXXXXXXXXXXXXXXXXXXXXXXXXXXXXXXXX
BEGIN:VTIMEZONE
TZID:Europe/Budapest
BEGIN:DAYLIGHT
TZOFFSETFROM:+0100
TZOFFSETTO:+0200
TZNAME:CEST
DTSTART:20250330T010000
END:DAYLIGHT
BEGIN:STANDARD
TZOFFSETFROM:+0200
TZOFFSETTO:+0100
TZNAME:CET
DTSTART:20251026T010000
END:STANDARD
END:VTIMEZONE
BEGIN:VEVENT
DTSTART;TZID=Europe/Budapest:20250515T160000
DTEND;TZID=Europe/Budapest:20250515T170000
DTSTAMP:20260419T232847
CREATED:20250505T105923Z
LAST-MODIFIED:20250505T105923Z
UID:37740-1747324800-1747328400@relnet.hu
SUMMARY:Kemp webinárium – Katasztrófa utáni helyreállítás globális szerverterhelés-elosztással
DESCRIPTION:Regisztráljon a Progess Kemp webináriumára hogy megtudja\, miként segíthet a GSLB alkalmazása az üzletmenet folytonosságának fenntartásában! \nREGISZTRÁCIÓ\n\n  \nIdőpont: 2025. május 15. (csütörtök) | 16:00-17:00 \nHa a váratlan hálózati kiesések és biztonsági problémák nem kerülnek időben kezelésre\, komoly hatással lehetnek az üzletmenet folytonosságára. Egy átfogó katasztrófa utáni helyreállítási terv kulcsfontosságú az üzletfolytonosság fenntartásához. A globális szerverterhelés-elosztó (GSLB) alkalmazása a helyreállítási stratégia részeként lehetővé teszi a vállalatok számára\, hogy az alkalmazásaikat ellenállóképesen\, nagy rendelkezésre állással és megbízhatóan szolgáltassák. \nTémák: \n\nHogyan erősíthető a katasztrófa utáni helyreállítási stratégia a GSLB alkalmazásával?\nA 360 fokos láthatóság integrálása a helyreállítási stratégiába\nA GSLB architektúrában alkalmazott egységes irányítópult előnyeinek bemutatása
URL:https://relnet.hu/en/rendezveny/kemp-webinarium-katasztrofa-utani-helyreallitas-globalis-szerverterheles-elosztassal/
LOCATION:Virtual event
CATEGORIES:Kemp,Progress
ATTACH;FMTTYPE=image/jpeg:https://relnet.hu/wp-content/uploads/2025/04/KempKatasztofaWebinar-min.jpg
END:VEVENT
END:VCALENDAR