BEGIN:VCALENDAR
VERSION:2.0
PRODID:-//RelNet Technológia Kft. - ECPv5.16.4//NONSGML v1.0//EN
CALSCALE:GREGORIAN
METHOD:PUBLISH
XXXXXXXXXXXXXXXXXXXXXXXXXXXXXXXXXXXXXX
XXXXXXXXXXXXXXXXXXXXXXXXXXXXXXXXXXXXX
XXXXXXXXXXXXXXXXXXXXXXXXXXXXXXXXXXXXXXXXXXXXXXXXX
BEGIN:VTIMEZONE
TZID:Europe/Budapest
BEGIN:DAYLIGHT
TZOFFSETFROM:+0100
TZOFFSETTO:+0200
TZNAME:CEST
DTSTART:20220327T010000
END:DAYLIGHT
BEGIN:STANDARD
TZOFFSETFROM:+0200
TZOFFSETTO:+0100
TZNAME:CET
DTSTART:20221030T010000
END:STANDARD
END:VTIMEZONE
BEGIN:VEVENT
DTSTART;TZID=Europe/Budapest:20221129T084500
DTEND;TZID=Europe/Budapest:20221129T170000
DTSTAMP:20260422T162838
CREATED:20221027T111036Z
LAST-MODIFIED:20221123T103640Z
UID:25621-1669711500-1669741200@relnet.hu
SUMMARY:Kétnapos Radware ’hands- & swimming trunks-on’ DDoS és WAF tréning\, Wellness levezetéssel
DESCRIPTION:2022. november 29-én és 30-án egésznapos „Radware Hands-on” tréninget tartunk a Radware két piacvezető megoldásáról. \nA tréning első napjának témája a Radware DDoS támadások elleni terméke\, a DefensePro lesz\, míg a második napon a Radware ADC és WAF megoldásai kerülnek sorra. A délelőtti előadásokat\, valamint a délutáni interaktív laborgyakorlatokat (telepítés\, hibaelhárítás) mindkét napon egy egyórás ebédszünet választja el egymástól. \nA laborgyakorlatokat követően fakultatív wellnessfürdőzéssel\, csúszdázással\, szaunázással kívánunk hozzájárulni a résztvevők regenerálódásához. \nA szakmai előadások révén a résztvevők mélyreható és részletes ismereteket szereznek az említett megoldásokról\, beleértve a telepítésük és konfigurációjuk gyakorlati bemutatását is. Éppen ezért a Radware minden résztvevőnek technikai oklevelet ad! \nTémák: \n1. nap: DDoS – A DefensePro és a felhőalapú védelem \n1. nap: DDoS – Délutáni demó és gyakorlat \n  \n2. nap: ADC és WAF – Alteon és AppWall integráció \n  \n2. nap: ADC és WAF – Délutáni demó és gyakorlat \nElőadó: \n\nPetr Lasek\, Sales Engineer\, Radware\nArtur Mehitrian\, Sales Engineer\, Radware\n\nHelyszín: Aquaworld Resort Budapest – Ganges 4 terem\, 1044 Budapest\, Íves út 16. \nIdőpont: 2022. november 29. és 30. (kedd-szerda) / 08:45 – 17:00 CET szakmai program\, 17:00 – 20:00 CET\, fakultatív wellness. \nSaját laptopos rendezvény! Kérjük\, hozzon magával olyan számítógépet a tréningre\, amelyen adminisztrátori jogosultságokkal rendelkezik! \nA kétnapos eseményen való részvételért összesen 100 extra pontot írunk jóvá az eLearning rendszerünkben! \nREGISZTRÁLJON MOST!
URL:https://relnet.hu/en/rendezveny/ketnapos-radware-hands-swimming-trunks-on-ddos-es-waf-trening-wellness-levezetessel/
LOCATION:Aquaworld Resort Budapest\, Íves út 16.\, Budapest\, 1044\, Magyarország
CATEGORIES:Radware,Végfelhasználó,Viszonteladó
ATTACH;FMTTYPE=image/png:https://relnet.hu/wp-content/uploads/2022/10/2_Napos_RDW-min.png
END:VEVENT
END:VCALENDAR