BEGIN:VCALENDAR
VERSION:2.0
PRODID:-//RelNet Technológia Kft. - ECPv5.16.4//NONSGML v1.0//EN
CALSCALE:GREGORIAN
METHOD:PUBLISH
XXXXXXXXXXXXXXXXXXXXXXXXXXXXXXXXXXXXXX
XXXXXXXXXXXXXXXXXXXXXXXXXXXXXXXXXXXXX
XXXXXXXXXXXXXXXXXXXXXXXXXXXXXXXXXXXXXXXXXXXXXXXXX
BEGIN:VTIMEZONE
TZID:Europe/Budapest
BEGIN:DAYLIGHT
TZOFFSETFROM:+0100
TZOFFSETTO:+0200
TZNAME:CEST
DTSTART:20190331T010000
END:DAYLIGHT
BEGIN:STANDARD
TZOFFSETFROM:+0200
TZOFFSETTO:+0100
TZNAME:CET
DTSTART:20191027T010000
END:STANDARD
END:VTIMEZONE
BEGIN:VEVENT
DTSTART;TZID=Europe/Budapest:20190711T170000
DTEND;TZID=Europe/Budapest:20190711T180000
DTSTAMP:20260420T031957
CREATED:20190628T080656Z
LAST-MODIFIED:20190628T100214Z
UID:3028-1562864400-1562868000@relnet.hu
SUMMARY:Pulse Webinar: Level up your Secure Access with Optimal Gateway Selection
DESCRIPTION:Want to level up your SecureAccess strategy with Optimal Gateway Selection? \n \nWhen your business is global\, then your employees should have seamless secure access as they become more mobile.When your business is global\, then your employees should have seamless secure access as they become more mobile. \n \nHowever\, when they connect to your business applications\, they will often default to their home datacenter\, which may not be the most responsive location while on the move. Long latencies can slow application response times\, and network outages and congestion may cause further restrictions\, so you need a way for mobile users to connect to the nearest\, most reliable application connection at all times\, wherever they are\, and over any network. \n \nOptimal Gateway Selection is a simple way to up-level your Secure Access strategy – tune in to this webinar to find how to help your employees\, contractors and third parties: \n\nConnect seamlessly to the nearest global location\nAvoid congestion and network outages for continuous service\nEnhance their user experience with faster\, more responsive connections\n\nRegister for Pulse Secure’s next webinar to learn more on Thursday\, July 11th. \n\n\nRegister now! \nLevel up your Secure Access with Optimal Gateway Selection\n11th July\, 2019. 17:00 pm. (CEST) \nREGISTER NOW
URL:https://relnet.hu/en/rendezveny/level_up_-your_secure_access/
CATEGORIES:End user,Pulse Secure,Reseller,Webinar
ATTACH;FMTTYPE=image/png:https://relnet.hu/wp-content/uploads/2019/06/Pulse-webinar_1-1.png
END:VEVENT
END:VCALENDAR