BEGIN:VCALENDAR
VERSION:2.0
PRODID:-//RelNet Technológia Kft. - ECPv5.16.4//NONSGML v1.0//EN
CALSCALE:GREGORIAN
METHOD:PUBLISH
XXXXXXXXXXXXXXXXXXXXXXXXXXXXXXXXXXXXXX
XXXXXXXXXXXXXXXXXXXXXXXXXXXXXXXXXXXXX
XXXXXXXXXXXXXXXXXXXXXXXXXXXXXXXXXXXXXXXXXXXXXXXXX
BEGIN:VTIMEZONE
TZID:Europe/Budapest
BEGIN:DAYLIGHT
TZOFFSETFROM:+0100
TZOFFSETTO:+0200
TZNAME:CEST
DTSTART:20230326T010000
END:DAYLIGHT
BEGIN:STANDARD
TZOFFSETFROM:+0200
TZOFFSETTO:+0100
TZNAME:CET
DTSTART:20231029T010000
END:STANDARD
END:VTIMEZONE
BEGIN:VEVENT
DTSTART;TZID=Europe/Budapest:20230504T140000
DTEND;TZID=Europe/Budapest:20230504T150000
DTSTAMP:20260420T003235
CREATED:20230426T142817Z
LAST-MODIFIED:20230925T125151Z
UID:28964-1683208800-1683212400@relnet.hu
SUMMARY:LoadMaster telepítés és bevált gyakorlatok on-demand webinárium
DESCRIPTION:Tekintse meg az on-demand webináriumot a Progress Kemp terheléselosztóiról! Az előadás egy rövid űrlap kitöltése után nézhető meg. \nMEGNÉZEM\n\nA Progress Kemp LoadMasterrel maximalizálható az alkalmazások teljesítménye és biztonsága\, kezelhető minden alkalmazás\, valamint optimalizálható a felhasználói élmény. \nTémák: \n\nBevált telepítési gyakorlatok\nA LoadMaster gyors konfigurációja\nAPI-k használata az automatizálás érdekében
URL:https://relnet.hu/en/rendezveny/loadmaster-telepites-es-bevalt-gyakorlatok-on-demand-webinarium-2023-05-04/2023-05-04/
LOCATION:Virtual event
CATEGORIES:Kemp,Progress
ATTACH;FMTTYPE=image/jpeg:https://relnet.hu/wp-content/uploads/2023/04/kempOnDemandWebinar-min.jpg
END:VEVENT
END:VCALENDAR