BEGIN:VCALENDAR
VERSION:2.0
PRODID:-//RelNet Technológia Kft. - ECPv5.16.4//NONSGML v1.0//EN
CALSCALE:GREGORIAN
METHOD:PUBLISH
XXXXXXXXXXXXXXXXXXXXXXXXXXXXXXXXXXXXXX
XXXXXXXXXXXXXXXXXXXXXXXXXXXXXXXXXXXXX
XXXXXXXXXXXXXXXXXXXXXXXXXXXXXXXXXXXXXXXXXXXXXXXXX
BEGIN:VTIMEZONE
TZID:Europe/Budapest
BEGIN:DAYLIGHT
TZOFFSETFROM:+0100
TZOFFSETTO:+0200
TZNAME:CEST
DTSTART:20240331T010000
END:DAYLIGHT
BEGIN:STANDARD
TZOFFSETFROM:+0200
TZOFFSETTO:+0100
TZNAME:CET
DTSTART:20241027T010000
END:STANDARD
END:VTIMEZONE
BEGIN:VEVENT
DTSTART;TZID=Europe/Budapest:20241008T173000
DTEND;TZID=Europe/Budapest:20241008T183000
DTSTAMP:20260420T033149
CREATED:20240917T095824Z
LAST-MODIFIED:20240917T095824Z
UID:34929-1728408600-1728412200@relnet.hu
SUMMARY:ManageEngine MSP Essentials – 1. rész
DESCRIPTION:Hatékony PSA és ITSM gyakorlatok az erős MSP alapok megteremtése érdekében. \nA ManageEngine élő webináriumsorozatában a gyártó szakértői bemutatják az IT- és biztonságmenedzsment javítását célzó megoldásközpontú gyakorlatokat menedzselt szolgáltatók (MSP) és menedzselt biztonsági szolgáltatók (MSSP) számára. \n REGISZTRÁCIÓ \n\nIdőpont: 2024. október 8. (kedd) | 17:30
URL:https://relnet.hu/en/rendezveny/manageengine-msp-essentials-1-resz/
LOCATION:Virtual event
CATEGORIES:ManageEngine
ATTACH;FMTTYPE=image/jpeg:https://relnet.hu/wp-content/uploads/2024/09/ManageEngineMSPEssentials1-min.jpg
END:VEVENT
END:VCALENDAR