BEGIN:VCALENDAR
VERSION:2.0
PRODID:-//RelNet Technológia Kft. - ECPv5.16.4//NONSGML v1.0//EN
CALSCALE:GREGORIAN
METHOD:PUBLISH
XXXXXXXXXXXXXXXXXXXXXXXXXXXXXXXXXXXXXX
XXXXXXXXXXXXXXXXXXXXXXXXXXXXXXXXXXXXX
XXXXXXXXXXXXXXXXXXXXXXXXXXXXXXXXXXXXXXXXXXXXXXXXX
BEGIN:VTIMEZONE
TZID:Europe/Budapest
BEGIN:DAYLIGHT
TZOFFSETFROM:+0100
TZOFFSETTO:+0200
TZNAME:CEST
DTSTART:20190331T010000
END:DAYLIGHT
BEGIN:STANDARD
TZOFFSETFROM:+0200
TZOFFSETTO:+0100
TZNAME:CET
DTSTART:20191027T010000
END:STANDARD
END:VTIMEZONE
BEGIN:VEVENT
DTSTART;TZID=Europe/Budapest:20190530T083000
DTEND;TZID=Europe/Budapest:20190530T230000
DTSTAMP:20260420T033314
CREATED:20190508T133322Z
LAST-MODIFIED:20190523T133207Z
UID:2352-1559205000-1559257200@relnet.hu
SUMMARY:RelNet PartnerShip Day
DESCRIPTION:INVITATION\nDear Valued Partner\,  \nWe are pleased to invite you to our PartnerShip Day that takes place on the 30th of May on the beautiful Budapest ship. \nWe will cruise up to the spectacular city of Visegrád where will take a look back on the past with the help of the renaissance environment and a real medieval tournament\, but will also discover the future during our journey. Useful presentations will enlighten you on those remarkable technologies that are modernizing today’s security and networking solutions. \nAt the end of the event those guest who completed the “Be Smart Quiz” will participate in a drawing and “Smart prizes” will be awarded to the lucky ones. The evening session starts with the dinner during a sightseeing tour on the Danube river with unparalleled view of Budapest’s historical sites. At the end of the program you can enjoy the live concert of the Tóth Vera Quartet. \nLet’s spend a great day together!  \n\n  \nVenue: Budapest Conference BoatDeparture and Arrival Port: Szent István Park 1. kikötő \nPLANNED AGENDA  \n8:30-8:45 Arrival\, coffee and refreshments   \n8:45-8:55 Welcome on board\, Peter Varga\, Business Development Director\, RelNet Technology  \n9:00 Ship’s departure to Visegrád  \n9:00-9:20 Guest presentation: László Fazakas\, GDPR expert \n9:20-9:40 Autonomuous Enterprise – Enterprise Networks of the Future Michal Zlesak\, Sales Director CSE\, Extreme Networks  \n9:40-10:00 Cyber Risk Management Made Simple Arthur Dinevich\, Technical Director\, CIS & Eastern Europe\, Skybox Security  \n10:00-10:20 Zero Trust\, Hybrid IT Access with Software Defined Perimeter\,Oliver Helml\, Regional Channel Manager\, Pulse Secure  \n10:20-10:40 Lean Cloud Access ManagementSub-Title:     Just-In-Time Access Management for Hybrid-Cloud David Wishart\, Solutions Director (EMEA)\, SSH Communications Security \n10:40-11:10 Coffee Break  \n11:10-11:30 KEMP ADC’s help any company to optimize and secure its IT and save costs the same time. More than 25\,000 companies and service providers in 115 countries already rely on Kemp to provide their applications with high availability and security.Thomas Kurz\, Regional Director\, DACH\, EE\, Russia & CIS\, Kemp Technologies  \n11:30-11:50 Case Study: „Industrial Ethernet in a Secure Fast-Ring application based on the Haifa Cable Car project” Hans Ederer\, Senior Technical Application Engineer\, Connection Technology Systems \n11:50-12:10 How to discover\, control and protect your sensitive data? Tamás Szalai\, Pre-sales Engineer\, RelNet Technology  \n12:10-12:30 GDPR in Practice – Continuous Data Inventory\, Search Options\, Alarms\, Monitoring\, File Operation Information in Panda Data Control Gyula Bardócz\, Head of Sales\, Panda Security  \n12:30 Arrival at Visegrád  \n12:30-14:00 Lunch in the Renaissance restaurant  \nMenu:  * \n“Gala plate”Pheasant soup with strawberry leaves and venison ragout soup with tarragon and potato balls with onionTurkey legs roasted in oven with bacon\, Pork-chop fillet larded with mushrooms and grilled goose liver\, Baked potatoes topped with cheese and fried pancakes filled with mushroom\, Cabbage steamed in red wineMixed fresh vegetables\, Cold and warm sauces\, Pumpkin strudel with poppy seeds and cottage cheese strudel\, Golden dough balls with foamy wine sauce\n*Please\, let us know about your special meal request (e.g. vegetarian or lacto-\, gluten-free menu). \n \n14:00-15:30 Knights tournament \n15:30 Departure back to Budapest  \n15:40-16:00 AI-based network automation with WI-FI integrationIstván Laky\, Senior Systems Engineer\, Juniper Networks   \n16:00-16:20 Network Test Access Points (TAPs) = 100% visibility – See every bit\, byte\, and packet flowing through your networkNew vendor in the RelNet Technology’s portfolio \n16:20-16:50 Coffee break \n16:50-17:10 Cyber Protection – The level beyond Data ProtectionNew vendor in the RelNet Technology’s portfolio   \n17:10-17:30 The future of the Fortinet – RelNet cooperationGábor Hirsch\, Partner Development Specialist\, RelNet Technology \n17:30–17:50 Summary / Special Announcement  \n17:50  “Be Smart Quiz” draw \n18:00 Arriving back at the port Szent István park 1.\, Budapest  \n\n\n19:00-20:00 Sightseeing cruise in Budapest\, dinner \n20:30-21:30 “Tóth Vera Quartet” live concert \n23:00             End of the program \nLet’s spend a great day together! \nThe team of RelNet\nREGISTER
URL:https://relnet.hu/en/rendezveny/megnyilt-a-relnet-partnernapi-regisztracio/
LOCATION:Mahart kikötő: SZENT ISTVÁN PARK 1.\, Szent István park 1.\, Budapest\, 1138\, Magyarország
CATEGORIES:End user,Event,Extreme Networks,Fortinet,Ivanti,Juniper Networks,Kemp Technologies,Panda Security,Pulse Secure,RelNet,Reseller,Skybox Security,SSH,Transition Networks
ATTACH;FMTTYPE=image/png:https://relnet.hu/wp-content/uploads/2019/05/1.png
GEO:N 47.52150;E 19.05163
X-APPLE-STRUCTURED-LOCATION;VALUE=URI;X-ADDRESS=Mahart kikötő: SZENT ISTVÁN PARK 1. Szent István park 1. Budapest 1138 Magyarország;X-APPLE-RADIUS=500;X-TITLE=Szent István park 1.:geo:E 19.05163,N 47.52150
END:VEVENT
END:VCALENDAR