BEGIN:VCALENDAR
VERSION:2.0
PRODID:-//RelNet Technológia Kft. - ECPv5.16.4//NONSGML v1.0//EN
CALSCALE:GREGORIAN
METHOD:PUBLISH
XXXXXXXXXXXXXXXXXXXXXXXXXXXXXXXXXXXXXX
XXXXXXXXXXXXXXXXXXXXXXXXXXXXXXXXXXXXX
XXXXXXXXXXXXXXXXXXXXXXXXXXXXXXXXXXXXXXXXXXXXXXXXX
BEGIN:VTIMEZONE
TZID:Europe/Budapest
BEGIN:DAYLIGHT
TZOFFSETFROM:+0100
TZOFFSETTO:+0200
TZNAME:CEST
DTSTART:20230326T010000
END:DAYLIGHT
BEGIN:STANDARD
TZOFFSETFROM:+0200
TZOFFSETTO:+0100
TZNAME:CET
DTSTART:20231029T010000
END:STANDARD
END:VTIMEZONE
BEGIN:VEVENT
DTSTART;TZID=Europe/Budapest:20230302T140000
DTEND;TZID=Europe/Budapest:20230302T150000
DTSTAMP:20260420T020904
CREATED:20230214T140445Z
LAST-MODIFIED:20230224T105209Z
UID:27605-1677765600-1677769200@relnet.hu
SUMMARY:Növelje alkalmazásainak biztonságát a Progress Kemp LoadMaster megoldásával!
DESCRIPTION:Ezen a technológiai fókuszú webináriumon március 2-án pre-sales és informatikai szakemberek számára bemutatjuk a LoadMaster terheléselosztók IT biztonsági szolgáltatásait. \nTémák: \n\nHogyan védjük meg alkalmazásainkat\, mi a szerepe a terheléselosztónak?\n\n\n\nMi a webalkalmazás szintű tűzfal (WAF)\, és miért van rá szükségünk?\n\nA webinárium angol nyelvű\, az előadó a Progress Kemp senior szakértője\, Rénard Schöpfel. \nJelentkezzen most! \nIdőpont: 2023. március 2. (csütörtök) | 14:00-15:00 CET \nA webináriumon való részvételért 12 extra pontot írunk jóvá az eLearning programunkban!
URL:https://relnet.hu/en/rendezveny/novelje-alkalmazasainak-biztonsagat-a-progress-kemp-loadmaster-megoldasaval/
LOCATION:Virtual event
CATEGORIES:Kemp,Végfelhasználó,Viszonteladó
ATTACH;FMTTYPE=image/jpeg:https://relnet.hu/wp-content/uploads/2023/02/Progress_Kemp_alkalmazasbiztonsag_meghivo-min.jpg
END:VEVENT
END:VCALENDAR