BEGIN:VCALENDAR
VERSION:2.0
PRODID:-//RelNet Technológia Kft. - ECPv5.16.4//NONSGML v1.0//EN
CALSCALE:GREGORIAN
METHOD:PUBLISH
XXXXXXXXXXXXXXXXXXXXXXXXXXXXXXXXXXXXXX
XXXXXXXXXXXXXXXXXXXXXXXXXXXXXXXXXXXXX
XXXXXXXXXXXXXXXXXXXXXXXXXXXXXXXXXXXXXXXXXXXXXXXXX
BEGIN:VTIMEZONE
TZID:Europe/Budapest
BEGIN:DAYLIGHT
TZOFFSETFROM:+0100
TZOFFSETTO:+0200
TZNAME:CEST
DTSTART:20210328T010000
END:DAYLIGHT
BEGIN:STANDARD
TZOFFSETFROM:+0200
TZOFFSETTO:+0100
TZNAME:CET
DTSTART:20211031T010000
END:STANDARD
END:VTIMEZONE
BEGIN:VEVENT
DTSTART;TZID=Europe/Budapest:20210527T120000
DTEND;TZID=Europe/Budapest:20210527T124500
DTSTAMP:20260420T022031
CREATED:20210521T141431Z
LAST-MODIFIED:20210521T141431Z
UID:15438-1622116800-1622119500@relnet.hu
SUMMARY:Növelje help desk produktivitását a ManageEngine ADManager Plusszal
DESCRIPTION:Végezze el az Active Directoryval kapcsolatos feladatait mindössze néhány kattintással\, közvetlenül a help desk konzoljáról.\nIgen\, jól olvasta! \nVegyen részt az exkluzív\, kétrészes webináriumsorozaton\, hogy megtudja\, hogyan képes két ManageEngine termék zökkenőmentes integrációja\n• a ServiceDesk Plus help desk menedzsment szoftver\,\n• illetve az ADManager Plus átfogó jogosultságkezelési (IAM) megoldás\,\ncsodákat művelni az Ön help deskjével. \nTémák\n• Integrálja a ManageEngine házon belüli IAM és ITSM megoldásait zökkenőmentesen.\n• Növelje többszörösére help deskjének produktivitását.\n• Használjon okos sablonokat annak érdekében\, hogy egyidejűleg regisztráljon felhasználókat az AD-ba\, Exchange-be\, Office 365-be stb. a ServiceDesk Plus felületéről.\n• Hajtson végre gyakran ismétlődő feladatokat\, mint amilyen a felhasználókezelés\, közvetlenül a ServiceDesk Plus konzolról.\n• Állítsa vissza a végfelhasználók jelszavait a help desk segédről.\n• Engedélyezze vagy tiltsa az AD fiókokat\, és oldja fel a zárolt AD accountokat.\n• Konfigurálja a hozzáférési engedélyeket felhatalmazott szakemberek számára azáltal\, hogy társítja az ADManager szerepköröket a ServiceDesk Plus szerepkörökkel. \nJelentkezzen most!\n\n\nEnhance your help desk productivity with ADManager Plus integration\nAngol nyelvű webinárium\n2021. május 27.  12:00–12:45 CEST \nREGISZTRÁCIÓ\n\n 
URL:https://relnet.hu/en/rendezveny/novelje-help-desk-produktivitasat-a-manageengine-admanager-plusszal/
LOCATION:Virtual event
CATEGORIES:ManageEngine
ATTACH;FMTTYPE=image/jpeg:https://relnet.hu/wp-content/uploads/2021/05/Webinar1-min.jpg
END:VEVENT
END:VCALENDAR