BEGIN:VCALENDAR
VERSION:2.0
PRODID:-//RelNet Technológia Kft. - ECPv5.16.4//NONSGML v1.0//EN
CALSCALE:GREGORIAN
METHOD:PUBLISH
XXXXXXXXXXXXXXXXXXXXXXXXXXXXXXXXXXXXXX
XXXXXXXXXXXXXXXXXXXXXXXXXXXXXXXXXXXXX
XXXXXXXXXXXXXXXXXXXXXXXXXXXXXXXXXXXXXXXXXXXXXXXXX
BEGIN:VTIMEZONE
TZID:Europe/Budapest
BEGIN:DAYLIGHT
TZOFFSETFROM:+0100
TZOFFSETTO:+0200
TZNAME:CEST
DTSTART:20220327T010000
END:DAYLIGHT
BEGIN:STANDARD
TZOFFSETFROM:+0200
TZOFFSETTO:+0100
TZNAME:CET
DTSTART:20221030T010000
END:STANDARD
END:VTIMEZONE
BEGIN:VEVENT
DTSTART;TZID=Europe/Budapest:20220222T093000
DTEND;TZID=Europe/Budapest:20220222T100000
DTSTAMP:20260420T031521
CREATED:20220214T085316Z
LAST-MODIFIED:20220214T085249Z
UID:20457-1645522200-1645524000@relnet.hu
SUMMARY:Pentera – Automated Security Validation Use-Cases (Live Technical Webinar)
DESCRIPTION:Hear from Pentera’s security engineer\, Shakel Ahmed\, as he showcases real-life technical use-cases that: \n\nreduce the perpetual lag and backlog of manual tasks\,\nhelp to remove your teams’ resource constraints\,\nand are designed to improve the accuracy of testing\, detection and remediation.\n\nAutomated Security Validation ensures you can proactively assess\, manage and report the risks posed by those weaknesses at the time it matters most – when achievements from that vulnerability are the most damaging – the times of risks being prioritised on just a CVSS score should have passed. \nIn this 30 minute webinar\, Shakel will discuss technical use-cases in the first 20 minutes and open it up to Q&A in the final 10 minutes. \nDate: Tuesday\, 22nd February 2022 – 9:30-10:00 CET \nREGISTER
URL:https://relnet.hu/en/rendezveny/pentera-automated-security-validation-use-cases-live-technical-webinar/
LOCATION:Virtual event
CATEGORIES:Pentera,Webinar
ATTACH;FMTTYPE=image/png:https://relnet.hu/wp-content/uploads/2022/02/ENG-min.png
END:VEVENT
END:VCALENDAR