BEGIN:VCALENDAR
VERSION:2.0
PRODID:-//RelNet Technológia Kft. - ECPv5.16.4//NONSGML v1.0//EN
CALSCALE:GREGORIAN
METHOD:PUBLISH
XXXXXXXXXXXXXXXXXXXXXXXXXXXXXXXXXXXXXX
XXXXXXXXXXXXXXXXXXXXXXXXXXXXXXXXXXXXX
XXXXXXXXXXXXXXXXXXXXXXXXXXXXXXXXXXXXXXXXXXXXXXXXX
BEGIN:VTIMEZONE
TZID:Europe/Budapest
BEGIN:DAYLIGHT
TZOFFSETFROM:+0100
TZOFFSETTO:+0200
TZNAME:CEST
DTSTART:20220327T010000
END:DAYLIGHT
BEGIN:STANDARD
TZOFFSETFROM:+0200
TZOFFSETTO:+0100
TZNAME:CET
DTSTART:20221030T010000
END:STANDARD
END:VTIMEZONE
BEGIN:VEVENT
DTSTART;TZID=Europe/Budapest:20220907T110000
DTEND;TZID=Europe/Budapest:20220907T113000
DTSTAMP:20260422T162758
CREATED:20220822T095953Z
LAST-MODIFIED:20220822T095953Z
UID:24354-1662548400-1662550200@relnet.hu
SUMMARY:Pentera webinárium - Biztonsági validáció támadói megközelítéssel
DESCRIPTION:A Pentera szakértője által tartott 20 perces webináriumon szeptember 7-én megtudhatja\, hogyan segíthet a Pentera a támadási felület validációjában valódi támadói eszközök\, technikák és eljárások felhasználásával. \nA vállalatok támadási felületének dinamikus növekedése megköveteli\, hogy a biztonsági és üzemeltető csapatok aktívan kezeljék a kockázataikat.  De tisztában vannak-e azzal\, hogy mit és mennyit látnak a támadók az informatikai környezetből? Mennyire lehetnek biztosak abban\, hogy a biztonsági ellenőrzéseik a szükséges mértékben hatékonyak? \nRegisztráljon még ma az előadásra! \nElőadó: Jay Mar-Tang\, Sales Engineering Director\, Pentera \nIdőpont: 2022. szeptember 7. (szerda)\, 11:00 \nREGISZTRÁCIÓ
URL:https://relnet.hu/en/rendezveny/pentera-webinarium-biztonsagi-validacio-tamadoi-megkozelitessel/
LOCATION:Virtual event
CATEGORIES:Pentera,Webinárium
ATTACH;FMTTYPE=image/jpeg:https://relnet.hu/wp-content/uploads/2022/08/pentera_asv-min.jpg
END:VEVENT
END:VCALENDAR