BEGIN:VCALENDAR
VERSION:2.0
PRODID:-//RelNet Technológia Kft. - ECPv5.16.4//NONSGML v1.0//EN
CALSCALE:GREGORIAN
METHOD:PUBLISH
XXXXXXXXXXXXXXXXXXXXXXXXXXXXXXXXXXXXXX
XXXXXXXXXXXXXXXXXXXXXXXXXXXXXXXXXXXXX
XXXXXXXXXXXXXXXXXXXXXXXXXXXXXXXXXXXXXXXXXXXXXXXXX
BEGIN:VTIMEZONE
TZID:Europe/Budapest
BEGIN:DAYLIGHT
TZOFFSETFROM:+0100
TZOFFSETTO:+0200
TZNAME:CEST
DTSTART:20230326T010000
END:DAYLIGHT
BEGIN:STANDARD
TZOFFSETFROM:+0200
TZOFFSETTO:+0100
TZNAME:CET
DTSTART:20231029T010000
END:STANDARD
END:VTIMEZONE
BEGIN:VEVENT
DTSTART;TZID=Europe/Budapest:20230427T084500
DTEND;TZID=Europe/Budapest:20230427T143000
DTSTAMP:20260420T063008
CREATED:20230331T145929Z
LAST-MODIFIED:20230426T093839Z
UID:28602-1682585100-1682605800@relnet.hu
SUMMARY:Progress Bootcamp
DESCRIPTION:Kedves Partnerünk! \nEzúton meghívunk a 2023. április 27-én tartandó Progress Bootcamp rendezvényünkre.\nA NIS2 irányelv segítségével az Európai Unió egységesen magas szintre emeli a kiberbiztonságot és -rezilienciát. A biztonság csak a nagyvállalati hálózatok átláthatóságával valósítható meg. \nA rendezvényen megismerheted a Progress Flowmon és Kemp megoldásait\, és hogy mire jó a hálózati detektálás és válaszadás (NDR): Hogyan csináljunk „visibility” projektet és hogyan feleljünk meg az irányelveknek\, a kiberbiztonsági jogszabályoknak\, valamint a kockázatkezelési és hálózatbiztonsági intézkedéseknek? \nAz esemény végén egy lasertag játékra hívunk a Grundon! \n \nAgenda: \n9:00-9:15 Érkezés\, kávészünet\n9:15-10:15 Progress Flowmon + Kemp külön és egyben – Rövid áttekintés\n10:15-10:45 Kávészünet\n10:45-11:45 Mire jó a hálózati átláthatóság? Mi az NDR? Példaprojektek\, ötletek\n11:45-12:45 Hogyan csináljunk „visibility” projektet? Tippek és trükkök\n12:45-13:00 A Progress Flowmon és a NIS2 irányelv\n12:45-14:00 Ebéd\n14:00-15:00 Lasertag a Grundon \nHelyszín: A Grund Teréz terme\n1082 Budapest\, Nagytemplom utca 30. \nIdőpont: 2023. április 27. (csütörtök) 9:00-15:00 \nMegközelítés: \nA helyszín tömegközlekedéssel elérhető a 4-6-os villamosokkal vagy a 3-as metróval (Corvin-negyed megálló) \nParkolás: Fizetős parkolás az utcában vagy a Corvin Pláza parkolójában 1 utcányira \nMinden résztvevőnek 25 extra pontot írunk jóvá az eLearning programunkban!
URL:https://relnet.hu/en/rendezveny/progress-bootcamp/
LOCATION:Grund\, Nagy Templom utca 30.\, Budapest\, 1082\, Magyarország
CATEGORIES:Flowmon,Kemp,Progress,Viszonteladó
ATTACH;FMTTYPE=image/jpeg:https://relnet.hu/wp-content/uploads/2023/03/FlowmonBootcampV3-min.jpg
END:VEVENT
END:VCALENDAR