BEGIN:VCALENDAR
VERSION:2.0
PRODID:-//RelNet Technológia Kft. - ECPv5.16.4//NONSGML v1.0//EN
CALSCALE:GREGORIAN
METHOD:PUBLISH
XXXXXXXXXXXXXXXXXXXXXXXXXXXXXXXXXXXXXX
XXXXXXXXXXXXXXXXXXXXXXXXXXXXXXXXXXXXX
XXXXXXXXXXXXXXXXXXXXXXXXXXXXXXXXXXXXXXXXXXXXXXXXX
BEGIN:VTIMEZONE
TZID:Europe/Budapest
BEGIN:DAYLIGHT
TZOFFSETFROM:+0100
TZOFFSETTO:+0200
TZNAME:CEST
DTSTART:20250330T010000
END:DAYLIGHT
BEGIN:STANDARD
TZOFFSETFROM:+0200
TZOFFSETTO:+0100
TZNAME:CET
DTSTART:20251026T010000
END:STANDARD
END:VTIMEZONE
BEGIN:VEVENT
DTSTART;TZID=Europe/Budapest:20250320T090000
DTEND;TZID=Europe/Budapest:20250320T130000
DTSTAMP:20260420T122856
CREATED:20250220T103022Z
LAST-MODIFIED:20250310T155344Z
UID:36935-1742461200-1742475600@relnet.hu
SUMMARY:Progress Flowmon sales tréning
DESCRIPTION:A Progress és a RelNet Kft. közös szervezésű tréningjén\, március 20-án a Flowmon szakemberei hasznos értékesítési információkat osztanak meg a termék hálózati észlelési\, válaszadási és teljesítménymonitorozási moduljairól\, valamint a piaci és megfelelőségi előnyeiről. Regisztráljon most! \n  \n📅 Dátum: 2025. március 20. (csütörtök)\n📍 Helyszín: RelNet oktatóterem (1047 Budapest\, Váci út 71.)\n⏰ Időpont: 09:00 – 13:00 \n08:45 – 09:00 | Érkezés\, regisztráció\, kávé \n09:00 – 10:30 \n\nA Progress Flowmon sztori\nNPMD és NDR piaci és technológiai áttekintés\nA Flowmon és a különböző piaci vertikumok\nRövid demó arról\, ahogy egy ügyfél először találkozik velünk\n\n10:30 – 10:45 Kávészünet \n10:45 – 12:15 \n\nMintaprojektek\, architektúra\, licencelés\nA jogszabályok (NIS2) és a Flowmon\nIntegráció\, automatizáció\n\n12:15-től | Q&A\, a tréning lezárása \nHelyszín: A RelNet Kft. oktatóterme\, bejárat és ingyenes parkolási lehetőség a Perényi Zsigmond utca 2. alatt. Tömegközlekedéssel Újpest Központ metróállomástól induló 196-os\, 104-es vagy 204-es busszal közelíthető meg\, a Tímár utca buszmegállónál kell leszállni. \nA résztvevőknek 25 extra pontot írunk jóvá az eLearning rendszerünkben!
URL:https://relnet.hu/en/rendezveny/progress-flowmon-sales-trening/
LOCATION:RelNet conference room\, Váci út 71.\, Budapest\, 1047\, Magyarország
CATEGORIES:Flowmon,Progress,Végfelhasználó,Viszonteladó
ATTACH;FMTTYPE=image/jpeg:https://relnet.hu/wp-content/uploads/2025/02/ProgressFlowmonSalesTraining2025-min.jpg
GEO:47.572774139773;19.081058942328
X-APPLE-STRUCTURED-LOCATION;VALUE=URI;X-ADDRESS=RelNet conference room Váci út 71. Budapest 1047 Magyarország;X-APPLE-RADIUS=500;X-TITLE=Váci út 71.:geo:19.081058942328,47.572774139773
END:VEVENT
END:VCALENDAR