BEGIN:VCALENDAR
VERSION:2.0
PRODID:-//RelNet Technológia Kft. - ECPv5.16.4//NONSGML v1.0//EN
CALSCALE:GREGORIAN
METHOD:PUBLISH
XXXXXXXXXXXXXXXXXXXXXXXXXXXXXXXXXXXXXX
XXXXXXXXXXXXXXXXXXXXXXXXXXXXXXXXXXXXX
XXXXXXXXXXXXXXXXXXXXXXXXXXXXXXXXXXXXXXXXXXXXXXXXX
BEGIN:VTIMEZONE
TZID:Europe/Budapest
BEGIN:DAYLIGHT
TZOFFSETFROM:+0100
TZOFFSETTO:+0200
TZNAME:CEST
DTSTART:20240331T010000
END:DAYLIGHT
BEGIN:STANDARD
TZOFFSETFROM:+0200
TZOFFSETTO:+0100
TZNAME:CET
DTSTART:20241027T010000
END:STANDARD
END:VTIMEZONE
BEGIN:VEVENT
DTSTART;TZID=Europe/Budapest:20240625T150000
DTEND;TZID=Europe/Budapest:20240625T154500
DTSTAMP:20260420T032548
CREATED:20240624T135706Z
LAST-MODIFIED:20240624T135706Z
UID:34117-1719327600-1719330300@relnet.hu
SUMMARY:Progress Flowmon webinárium – A hálózati észlelés alapjai
DESCRIPTION:A hálózati észlelés és válaszadás (NDR) alapjait bemutató webinárium rávilágít e technológia összetettségére\, és kiemeli annak kritikus fontosságát a mai kiberbiztonsági környezetekben. \nREGISZTRÁCIÓ\n\nIdőpont: 2025. június 25. (kedd) | 15:00-15:45 \nA Progress Flowmon termékszakértői végigvezetik Önt az NDR technológiák történelmi fejlődésén. További témák az NDR működéséről: \n\nAlapvető szerepe a modern kiberbiztonsági stratégiák megerősítésében\nSegítség az azonosítási és problémaelhárítási erőfeszítésekben\nHálózati fenyegetések hatékony kezelése a Progress Flowmon NDR-rel\n\nEzt a webináriumot kifejezetten kiberbiztonsági szakemberek és IT-menedzserek számára készíti a Progress. \nElőadók: \n\nFilip Cerny\, Product Marketing Manager\, Progress Software\nMartin Skoda\, Senior Product Owner\, Progress Software
URL:https://relnet.hu/en/rendezveny/progress-flowmon-webinarium-a-halozati-eszleles-alapjai/
LOCATION:Virtual event
CATEGORIES:Flowmon
ATTACH;FMTTYPE=image/jpeg:https://relnet.hu/wp-content/uploads/2024/06/FlowmonHalozatAlapjai-min.jpg
END:VEVENT
END:VCALENDAR