BEGIN:VCALENDAR
VERSION:2.0
PRODID:-//RelNet Technológia Kft. - ECPv5.16.4//NONSGML v1.0//EN
CALSCALE:GREGORIAN
METHOD:PUBLISH
XXXXXXXXXXXXXXXXXXXXXXXXXXXXXXXXXXXXXX
XXXXXXXXXXXXXXXXXXXXXXXXXXXXXXXXXXXXX
XXXXXXXXXXXXXXXXXXXXXXXXXXXXXXXXXXXXXXXXXXXXXXXXX
BEGIN:VTIMEZONE
TZID:Europe/Budapest
BEGIN:DAYLIGHT
TZOFFSETFROM:+0100
TZOFFSETTO:+0200
TZNAME:CEST
DTSTART:20240331T010000
END:DAYLIGHT
BEGIN:STANDARD
TZOFFSETFROM:+0200
TZOFFSETTO:+0100
TZNAME:CET
DTSTART:20241027T010000
END:STANDARD
END:VTIMEZONE
BEGIN:VEVENT
DTSTART;TZID=Europe/Budapest:20240723T150000
DTEND;TZID=Europe/Budapest:20240723T160000
DTSTAMP:20260420T043254
CREATED:20240717T084745Z
LAST-MODIFIED:20240717T084745Z
UID:34339-1721746800-1721750400@relnet.hu
SUMMARY:Progress Flowmon webinárium – Csomagelemzés a Packet Investigatorral
DESCRIPTION:Regisztráljon a Progress „Deep Dive into Network Traffic with Flowmon Packet Investigator” című webináriumára\, amelyen a Packet Investigator nevű termék hatékony adatcsomag-elemzési képességeit tárják fel a gyártó szakértői! \nREGISZTRÁCIÓ\n\nA hálózati forgalom elemzése elengedhetetlen az infrastruktúra működésének és biztonságának fenntartásához. Az adatcsomagok rögzítése és elemzése azonban elrettentő lehet\, ha nem rendelkezünk a hálózati protokollok mélyreható ismeretével. Ez a webinárium segít leküzdeni ezeket a kihívásokat. \nIdőpont: 2024. július 23. (kedd) | 15:00 \nTémák: \n\nAlapvetések: A hálózati forgalomelemzés alapjai és fontossága\nGyakorlati módszerek: Hatékony adatcsomag-rögzítés és elemzés a Progress Flowmon segítségével\nDemó: Hibaelhárítás lépésről lépésre a Flowmon Packet Investigator élő bemutatásával\nSzakértelem: Flowmon tippek és trükkök mélyreható protokollismeretek szükségessége nélkül\nKérdések és válaszok\n\nREGISZTRÁCIÓ
URL:https://relnet.hu/en/rendezveny/progress-flowmon-webinarium-csomagelemzes-a-packet-investigatorral/
LOCATION:Virtual event
CATEGORIES:Flowmon,Progress,Webinárium
ATTACH;FMTTYPE=image/jpeg:https://relnet.hu/wp-content/uploads/2024/07/FlowmonPacketInvestigator-min.jpg
END:VEVENT
END:VCALENDAR