BEGIN:VCALENDAR
VERSION:2.0
PRODID:-//RelNet Technológia Kft. - ECPv5.16.4//NONSGML v1.0//EN
CALSCALE:GREGORIAN
METHOD:PUBLISH
XXXXXXXXXXXXXXXXXXXXXXXXXXXXXXXXXXXXXX
XXXXXXXXXXXXXXXXXXXXXXXXXXXXXXXXXXXXX
XXXXXXXXXXXXXXXXXXXXXXXXXXXXXXXXXXXXXXXXXXXXXXXXX
BEGIN:VTIMEZONE
TZID:Europe/Budapest
BEGIN:DAYLIGHT
TZOFFSETFROM:+0100
TZOFFSETTO:+0200
TZNAME:CEST
DTSTART:20220327T010000
END:DAYLIGHT
BEGIN:STANDARD
TZOFFSETFROM:+0200
TZOFFSETTO:+0100
TZNAME:CET
DTSTART:20221030T010000
END:STANDARD
END:VTIMEZONE
BEGIN:VEVENT
DTSTART;TZID=Europe/Budapest:20220809T150000
DTEND;TZID=Europe/Budapest:20220809T160000
DTSTAMP:20260420T022029
CREATED:20220808T102022Z
LAST-MODIFIED:20220808T102022Z
UID:24061-1660057200-1660060800@relnet.hu
SUMMARY:Progress Flowmon webinárium – Hálózati észlelés és reagálás
DESCRIPTION:A Flowmon legújabb\, angol nyelvű webináriumán bemutatjuk a Progress Flowmon hálózati észlelő és reagáló (Network Detection & Response) eszközeit\, és feltárjuk\, milyen előnyökkel jár\, ha ezeket az eszközöket a hálózati infrastruktúrában már telepített megoldásokhoz adja hozzá. \nMivel a kiberfenyegetések száma évről évre növekszik\, az informatikai biztonság és a fenyegetésekre való gyors reagálás minden eddiginél fontosabb. Ezért játszanak a hálózati észlelő és reagáló (NDR) eszközök oly fontos szerepet minden szervezet infrastruktúrájában. \n  \nElőadó: Filip Cerny\, Flowmon Product Marketing Specialist\, Progress \nIdőpont: 2022. augusztus 9 (kedd)\, 15:00 CET \nREGISZTRÁCIÓ
URL:https://relnet.hu/en/rendezveny/progress-flowmon-webinarium-halozati-eszleles-es-reagalas/
LOCATION:Virtual event
CATEGORIES:Flowmon,Progress,Webinárium
ATTACH;FMTTYPE=image/jpeg:https://relnet.hu/wp-content/uploads/2022/08/flowmon_ndr-min.jpg
END:VEVENT
END:VCALENDAR