BEGIN:VCALENDAR
VERSION:2.0
PRODID:-//RelNet Technológia Kft. - ECPv5.16.4//NONSGML v1.0//EN
CALSCALE:GREGORIAN
METHOD:PUBLISH
XXXXXXXXXXXXXXXXXXXXXXXXXXXXXXXXXXXXXX
XXXXXXXXXXXXXXXXXXXXXXXXXXXXXXXXXXXXX
XXXXXXXXXXXXXXXXXXXXXXXXXXXXXXXXXXXXXXXXXXXXXXXXX
BEGIN:VTIMEZONE
TZID:Europe/Budapest
BEGIN:DAYLIGHT
TZOFFSETFROM:+0100
TZOFFSETTO:+0200
TZNAME:CEST
DTSTART:20230326T010000
END:DAYLIGHT
BEGIN:STANDARD
TZOFFSETFROM:+0200
TZOFFSETTO:+0100
TZNAME:CET
DTSTART:20231029T010000
END:STANDARD
END:VTIMEZONE
BEGIN:VEVENT
DTSTART;TZID=Europe/Budapest:20230523T100000
DTEND;TZID=Europe/Budapest:20230523T110000
DTSTAMP:20260420T003311
CREATED:20230505T071319Z
LAST-MODIFIED:20230518T074008Z
UID:29168-1684836000-1684839600@relnet.hu
SUMMARY:Progress Kemp technikai webinárium – Egyéni WAF szabályok és Content Switching
DESCRIPTION:Hallgassa meg a Progress Kemp szakemberének angol nyelvű\, műszaki fókuszú előadását a LoadMaster terheléselosztók kiegészítő funkcióiról! \nREGISZTRÁCIÓ\n\nIdőpont: 2023. május 23. (kedd) | 10:00 \nFő témák: \n\nWAF szabályok testreszabása – Az egyéni szabályokkal optimalizálható az alkalmazástűzfal biztonsági konfigurációja. Hogyan hozhatók létre\, tölthetők fel\, aktiválhatok és felügyelhetők ezek a szabályok a LoadMaster eszközökön?\nMagas szintű tartalomirányítás – A LoadMaster alapfeladata egyenletesen elosztani a forgalmat a szerverek között. Az Advanced Content Switching funkció ennél tovább megy\, hiszen az egyes kérések tartalmát megvizsgálva rendeli hozzá a forgalmat egy adott szerverhez.
URL:https://relnet.hu/en/rendezveny/progress-kemp-technikai-webinarium-egyeni-waf-szabalyok-es-content-switching/
LOCATION:Virtual event
CATEGORIES:Kemp,Progress
ATTACH;FMTTYPE=image/jpeg:https://relnet.hu/wp-content/uploads/2023/05/ProgressWaf-min.jpg
END:VEVENT
END:VCALENDAR