BEGIN:VCALENDAR
VERSION:2.0
PRODID:-//RelNet Technológia Kft. - ECPv5.16.4//NONSGML v1.0//EN
CALSCALE:GREGORIAN
METHOD:PUBLISH
XXXXXXXXXXXXXXXXXXXXXXXXXXXXXXXXXXXXXX
XXXXXXXXXXXXXXXXXXXXXXXXXXXXXXXXXXXXX
XXXXXXXXXXXXXXXXXXXXXXXXXXXXXXXXXXXXXXXXXXXXXXXXX
BEGIN:VTIMEZONE
TZID:Europe/Budapest
BEGIN:DAYLIGHT
TZOFFSETFROM:+0100
TZOFFSETTO:+0200
TZNAME:CEST
DTSTART:20250330T010000
END:DAYLIGHT
BEGIN:STANDARD
TZOFFSETFROM:+0200
TZOFFSETTO:+0100
TZNAME:CET
DTSTART:20251026T010000
END:STANDARD
END:VTIMEZONE
BEGIN:VEVENT
DTSTART;TZID=Europe/Budapest:20250220T160000
DTEND;TZID=Europe/Budapest:20250220T170000
DTSTAMP:20260420T020902
CREATED:20250210T083848Z
LAST-MODIFIED:20250210T083848Z
UID:36784-1740067200-1740070800@relnet.hu
SUMMARY:Progress Kemp – Vásárlói útmutató a terheléselosztó megoldásokhoz
DESCRIPTION:Regisztráljon a Progress Kemp LoadMaster webináriumra\, amely segít a terheléselosztással kapcsolatos döntések meghozatalában! \nREGISZTRÁCIÓ\n\nIdőpont: 2025. február 20. (csütörtök) | 16:00-17:00 \nA digitális átalakulás következményeként a szervezeteknek optimalizálniuk kell az alkalmazásélményt a rendelkezésre állás\, az agilitás és a teljesítménye tekintetében. Egy robusztus terheléselosztási megoldás segíthet ebben\, és az alkalmazások karbantartásában is. De hogyan és mi alapján válasszuk ki a megfelelő eszközt? \nA Load Balancing olyan technológia\, amely keresztezi a hagyományos IT-hálózatok világát a modern alkalmazásfejlesztéssel. Nem egyszerű eligazodni a terheléselosztással kapcsolatos követelmények és elvárások között\, legyen szó bármilyen üzleti alkalmazásról. \nTémák: \n\nAz alkalmazásszintű terheléselosztás követelményei\nAz üzletközpontú terheléselosztási igények azonosítása\nA kiválasztott terheléselosztó eszköz összehangolása az üzleti célokkal\nAlkalmazásélmény optimalizálása a megfelelő funkciók kiválasztásával\nLicencelési lehetőségek a szervezet igényeire szabva
URL:https://relnet.hu/en/rendezveny/progress-kemp-vasarloi-utmutato-a-terheleseloszto-megoldasokhoz/
LOCATION:Virtual event
CATEGORIES:Kemp,Kemp Technologies,Progress,Végfelhasználó,Viszonteladó,Webinárium
ATTACH;FMTTYPE=image/jpeg:https://relnet.hu/wp-content/uploads/2025/02/image_1021862-min.jpg
END:VEVENT
END:VCALENDAR