BEGIN:VCALENDAR
VERSION:2.0
PRODID:-//RelNet Technológia Kft. - ECPv5.16.4//NONSGML v1.0//EN
CALSCALE:GREGORIAN
METHOD:PUBLISH
XXXXXXXXXXXXXXXXXXXXXXXXXXXXXXXXXXXXXX
XXXXXXXXXXXXXXXXXXXXXXXXXXXXXXXXXXXXX
XXXXXXXXXXXXXXXXXXXXXXXXXXXXXXXXXXXXXXXXXXXXXXXXX
BEGIN:VTIMEZONE
TZID:Europe/Budapest
BEGIN:DAYLIGHT
TZOFFSETFROM:+0100
TZOFFSETTO:+0200
TZNAME:CEST
DTSTART:20240331T010000
END:DAYLIGHT
BEGIN:STANDARD
TZOFFSETFROM:+0200
TZOFFSETTO:+0100
TZNAME:CET
DTSTART:20241027T010000
END:STANDARD
END:VTIMEZONE
BEGIN:VEVENT
DTSTART;TZID=Europe/Budapest:20240827T100000
DTEND;TZID=Europe/Budapest:20240827T110000
DTSTAMP:20260420T123151
CREATED:20240821T135951Z
LAST-MODIFIED:20240821T135951Z
UID:34702-1724752800-1724756400@relnet.hu
SUMMARY:Progress Kemp webinárium a felhős terheléselosztásról
DESCRIPTION:Cloud Security Load Balancing Simplified címmel a Progress szakemberei ezen a webináriumon választ adnak arra kérdésre\, hogy mi alapján válasszunk szervezetünk számára felhőalapú terheléselosztó megoldásokat. \nREGISZTRÁCIÓ\n\nIdőpont: 2024. augusztus 27. (kedd) | 10:00 \nA webinárium azt a témát is körbe járja majd\, hogy biztonsági szempontból miért szükséges a felhőben is odafigyelni a terheléselosztásra.
URL:https://relnet.hu/en/rendezveny/progress-kemp-webinarium-a-felhos-terheleselosztasrol/
LOCATION:Virtual event
CATEGORIES:Kemp,Progress,Webinárium
ATTACH;FMTTYPE=image/jpeg:https://relnet.hu/wp-content/uploads/2024/08/ProgressKempFelhoTereloszlas-min.jpg
END:VEVENT
END:VCALENDAR