BEGIN:VCALENDAR
VERSION:2.0
PRODID:-//RelNet Technológia Kft. - ECPv5.16.4//NONSGML v1.0//EN
CALSCALE:GREGORIAN
METHOD:PUBLISH
XXXXXXXXXXXXXXXXXXXXXXXXXXXXXXXXXXXXXX
XXXXXXXXXXXXXXXXXXXXXXXXXXXXXXXXXXXXX
XXXXXXXXXXXXXXXXXXXXXXXXXXXXXXXXXXXXXXXXXXXXXXXXX
BEGIN:VTIMEZONE
TZID:Europe/Budapest
BEGIN:DAYLIGHT
TZOFFSETFROM:+0100
TZOFFSETTO:+0200
TZNAME:CEST
DTSTART:20240331T010000
END:DAYLIGHT
BEGIN:STANDARD
TZOFFSETFROM:+0200
TZOFFSETTO:+0100
TZNAME:CET
DTSTART:20241027T010000
END:STANDARD
END:VTIMEZONE
BEGIN:VEVENT
DTSTART;TZID=Europe/Budapest:20241001T160000
DTEND;TZID=Europe/Budapest:20241001T170000
DTSTAMP:20260420T021333
CREATED:20240920T100341Z
LAST-MODIFIED:20240920T100341Z
UID:35037-1727798400-1727802000@relnet.hu
SUMMARY:Progress LoadMaster 360 User Insights webinárium
DESCRIPTION:Ez a webinárium részletesen bemutatja a LoadMaster 360 új User Insights funkcióit\, amelyek egyéni kérések alapján nyújtanak valós idejű hálózati és alkalmazási adatokat. Ezáltal megérthető és fokozható az alkalmazásélmény\, azonosíthatók a szokatlan forgalmi minták\, valamint felismerhetők a teljesítménybeli rendellenességek.\n  \nREGISZTRÁCIÓ\n\nIdőpont: 2024. október 1. (kedd) | 16:00-17:00 \nA szervezetek számára kihívást jelent\, hogy az IT-csapatokat olyan eszközökkel és információkkal lássák el\, amelyekkel maximalizálni tudják az alkalmazáskézbesítési infrastruktúra rendelkezésre állását\, teljesítményét és biztonságát. A Progress LoadMaster 360 SaaS platform új funkcióival éppen ezekre a kihívásokra ad választ. \nA User Insights funkció előnyei:  \n\nAz általános alkalmazási élmény mélyreható megismerése valós idejű hálózati és alkalmazási adatokon keresztül\nA szokatlan forgalmi mintázatok egyszerű azonosítása a biztonsági fenyegetések mérséklése érdekében\nIntuitív adatelemzés a rendellenességek gyorsabb észleléséhez és megoldásához
URL:https://relnet.hu/en/rendezveny/progress-loadmaster-360-user-insights-webinarium/
LOCATION:Virtual event
CATEGORIES:Progress,Webinárium
ATTACH;FMTTYPE=image/jpeg:https://relnet.hu/wp-content/uploads/2024/09/ProgressLoadmaster360Webinar-min.jpg
END:VEVENT
END:VCALENDAR