BEGIN:VCALENDAR
VERSION:2.0
PRODID:-//RelNet Technológia Kft. - ECPv5.16.4//NONSGML v1.0//EN
CALSCALE:GREGORIAN
METHOD:PUBLISH
XXXXXXXXXXXXXXXXXXXXXXXXXXXXXXXXXXXXXX
XXXXXXXXXXXXXXXXXXXXXXXXXXXXXXXXXXXXX
XXXXXXXXXXXXXXXXXXXXXXXXXXXXXXXXXXXXXXXXXXXXXXXXX
BEGIN:VTIMEZONE
TZID:Europe/Budapest
BEGIN:DAYLIGHT
TZOFFSETFROM:+0100
TZOFFSETTO:+0200
TZNAME:CEST
DTSTART:20260329T010000
END:DAYLIGHT
BEGIN:STANDARD
TZOFFSETFROM:+0200
TZOFFSETTO:+0100
TZNAME:CET
DTSTART:20261025T010000
END:STANDARD
END:VTIMEZONE
BEGIN:VEVENT
DTSTART;VALUE=DATE:20260303
DTEND;VALUE=DATE:20260304
DTSTAMP:20260420T003313
CREATED:20260205T100335Z
LAST-MODIFIED:20260205T100528Z
UID:41189-1772496000-1772582399@relnet.hu
SUMMARY:Progress LoadMaster: ADC-stratégia az F5 iSeries után
DESCRIPTION:Az F5 iSeries eszközök támogatási ciklusának végéhez közeledve sok szervezet bizonytalan a folytatást illetően. Ez a webinárium pontos útmutatást ad a döntéshozóknak: rávilágít a kockázatokra\, bemutatja a modernizációs lehetőségeket\, és világos képet ad a jövőbeli alkalmazáskiszolgálási (ADC) stratégiákról. \nON-DEMAND WEBINÁRIUM MEGTEKINTÉSE\n\nA régi hardverek egy ideig még kiszolgálhatják az igényeket\, de minden technológiának van lejárati ideje. Az F5 iSeries életciklusának vége kiváló alkalom arra\, hogy az IT-csapatok ne csak frissítsék eszközeiket\, hanem újragondolják teljes alkalmazáskiszolgálási stratégiájukat is. \nEbben az on-demand webináriumban a Progress Kemp szakértői részletesen elemzik a támogatás nélküli hardverek használatából eredő üzleti és biztonsági kockázatokat. Emellett egy élő demón keresztül mutatják be\, milyen egyszerűen és zökkenőmentesen valósítható meg a migráció a LoadMaster platformra. \nIsmerje meg\, hogyan biztosítja a LoadMaster ADC a következőket: \n\nMaximális rendelkezésre állás: Global Server Load Balancing (GSLB) segítségével több adatközpont között osztható el a forgalom.\nGyorsabb tartalomkiszolgálás: Javítja a felhasználói élményt virtuális\, felhőalapú és hibrid környezetekben egyaránt.\nMegerősített biztonság: Integrált WAF\, valamint DDoS készültség az alkalmazások védelmében.\nProaktív menedzsment: Valós idejű monitorozás és analitika az alkalmazások egészségi állapotáról.
URL:https://relnet.hu/en/rendezveny/progress-loadmaster-adc-strategia-az-f5-iseries-utan/
LOCATION:Virtual event
CATEGORIES:Kemp,Progress
ATTACH;FMTTYPE=image/jpeg:https://relnet.hu/wp-content/uploads/2026/02/ProgressKempADC-min.jpg
END:VEVENT
END:VCALENDAR