BEGIN:VCALENDAR
VERSION:2.0
PRODID:-//RelNet Technológia Kft. - ECPv5.16.4//NONSGML v1.0//EN
CALSCALE:GREGORIAN
METHOD:PUBLISH
XXXXXXXXXXXXXXXXXXXXXXXXXXXXXXXXXXXXXX
XXXXXXXXXXXXXXXXXXXXXXXXXXXXXXXXXXXXX
XXXXXXXXXXXXXXXXXXXXXXXXXXXXXXXXXXXXXXXXXXXXXXXXX
BEGIN:VTIMEZONE
TZID:Europe/Budapest
BEGIN:DAYLIGHT
TZOFFSETFROM:+0100
TZOFFSETTO:+0200
TZNAME:CEST
DTSTART:20220327T010000
END:DAYLIGHT
BEGIN:STANDARD
TZOFFSETFROM:+0200
TZOFFSETTO:+0100
TZNAME:CET
DTSTART:20221030T010000
END:STANDARD
END:VTIMEZONE
BEGIN:VEVENT
DTSTART;TZID=Europe/Budapest:20220830T090000
DTEND;TZID=Europe/Budapest:20220830T093000
DTSTAMP:20260420T044421
CREATED:20220822T095254Z
LAST-MODIFIED:20220822T095254Z
UID:24329-1661850000-1661851800@relnet.hu
SUMMARY:Radware webinárium – A legjobb DDoS védelem válságos időszakokra
DESCRIPTION:Csatlakozzon Ön is augusztus 30-án a Radware 30 perces webináriumához\, amelyen a vállalat szakembere bemutatja a Radware piacvezető DDoS megoldását. \nA kibertámadások új korszakát éljük. Az ukrán/orosz háború újradefiniálta az eddig ismert fenyegetettséget. Ebben a globális hangulatban a kibertámadások váltak az egyik leghatékonyabb eszközzé bármilyen válság\, nemzeti érdek vagy hadviselés eszkalációjára\, ezért a védekezés is egészen újszerű módszereket igényel. \nTémák:  \n\nA változó fenyegetettségi környezet és a legfrissebb támadási esetek\nA rendelkezésre álló DDoS-védelmi megoldások\, beleértve a különböző implementációs lehetőségek előnyeit és hátrányait\nKulcsfontosságú szempontok szervezetek és vállalatok számára a legmegfelelőbb DDoS-megoldás kiválasztásához\n\nElőadó: Eva Abergel\, Product Marketing Manager \nKét időpont választható: \n\n2022. augusztus 30. (kedd)\, 09:00-09:30 – REGISZTRÁCIÓ\n2022. augusztus 30. (kedd)\, 17:00-17:30 – REGISZTRÁCIÓ
URL:https://relnet.hu/en/rendezveny/radware-webinarium-a-legjobb-ddos-vedelem-valsagos-idoszakokra/2022-08-30/
LOCATION:Virtual event
CATEGORIES:Radware,Webinárium
ATTACH;FMTTYPE=image/jpeg:https://relnet.hu/wp-content/uploads/2022/08/radware_webinar_DDoS_aug_30-min.jpg
END:VEVENT
END:VCALENDAR