BEGIN:VCALENDAR
VERSION:2.0
PRODID:-//RelNet Technológia Kft. - ECPv5.16.4//NONSGML v1.0//EN
CALSCALE:GREGORIAN
METHOD:PUBLISH
XXXXXXXXXXXXXXXXXXXXXXXXXXXXXXXXXXXXXX
XXXXXXXXXXXXXXXXXXXXXXXXXXXXXXXXXXXXX
XXXXXXXXXXXXXXXXXXXXXXXXXXXXXXXXXXXXXXXXXXXXXXXXX
BEGIN:VTIMEZONE
TZID:Europe/Budapest
BEGIN:DAYLIGHT
TZOFFSETFROM:+0100
TZOFFSETTO:+0200
TZNAME:CEST
DTSTART:20200329T010000
END:DAYLIGHT
BEGIN:STANDARD
TZOFFSETFROM:+0200
TZOFFSETTO:+0100
TZNAME:CET
DTSTART:20201025T010000
END:STANDARD
END:VTIMEZONE
BEGIN:VEVENT
DTSTART;TZID=Europe/Budapest:20200908T100000
DTEND;TZID=Europe/Budapest:20200908T110000
DTSTAMP:20260420T003212
CREATED:20200903T085456Z
LAST-MODIFIED:20200908T065121Z
UID:7976-1599559200-1599562800@relnet.hu
SUMMARY:Radware webinárium: DDoS
DESCRIPTION:Szeptemberben egy webinárium-sorozat keretében bemutatkozik új gyártónk a Radware.\nA sorozat 3 részből áll\, minden alkalommal más-más témát ismerhetnek meg a résztvevők. Elsőként a DDoS-ról majd a Web Application Firewall-ról\, végül pedig a BOT Management-ről hallhatnak részletesen az érdeklődők. \nMindegyik webinárium angol nyelvű és 10:00-11:00 óra között kerül megrendezésre.\nElőadók: Eran Danino (Regional Sales Manager SEE\, Radware) és Lior Zamir (Technical Account Manager\, Radware) lesz. \n2020. szeptember 8-án a DDoS témakört és a Radware vonatkozó megoldását ismerhetik meg partnereink. \nA DDoS webinárium tartalma: \n1. Rövid Radware cégbemutató\n2. Globális IT biztonsági trendek\n3. Radware támadásenyhítő (Attack Mitigation) megoldások \na. DDoS védelem típusai\nb. DNS védelem\nc. SSL támadások enyhítése és védekezés\nd. Hálózati viselkedéselemzés\ne. Többrétegű védelmi előfizetés alapú megoldások\nf. DefensePro termékvonal \n4. Bemutató\n5. Összegzés \nCsatlakozom a webináriumhoz\n\n  \nA sorozat további részei:\n2020. szeptember 9. 10:00-11:00 \nWeb Application Firewall \n2020. szeptember 17. 10:00-11:00\nBOT Management \nJelentkezni a weboldalon történt regisztráció/bejelentkezés után lehetséges! \nRegisztráljon most!
URL:https://relnet.hu/en/rendezveny/radware-webinarium-ddos/
LOCATION:Virtual event
CATEGORIES:Radware,Végfelhasználó,Viszonteladó
ATTACH;FMTTYPE=image/png:https://relnet.hu/wp-content/uploads/2020/09/DDoS-Attack.png
END:VEVENT
END:VCALENDAR