BEGIN:VCALENDAR
VERSION:2.0
PRODID:-//RelNet Technológia Kft. - ECPv5.16.4//NONSGML v1.0//EN
CALSCALE:GREGORIAN
METHOD:PUBLISH
XXXXXXXXXXXXXXXXXXXXXXXXXXXXXXXXXXXXXX
XXXXXXXXXXXXXXXXXXXXXXXXXXXXXXXXXXXXX
XXXXXXXXXXXXXXXXXXXXXXXXXXXXXXXXXXXXXXXXXXXXXXXXX
BEGIN:VTIMEZONE
TZID:Europe/Budapest
BEGIN:DAYLIGHT
TZOFFSETFROM:+0100
TZOFFSETTO:+0200
TZNAME:CEST
DTSTART:20250330T010000
END:DAYLIGHT
BEGIN:STANDARD
TZOFFSETFROM:+0200
TZOFFSETTO:+0100
TZNAME:CET
DTSTART:20251026T010000
END:STANDARD
END:VTIMEZONE
BEGIN:VEVENT
DTSTART;TZID=Europe/Budapest:20250918T160000
DTEND;TZID=Europe/Budapest:20250918T210000
DTSTAMP:20260419T204205
CREATED:20250724T131407Z
LAST-MODIFIED:20250724T131726Z
UID:38694-1758211200-1758229200@relnet.hu
SUMMARY:RelNet Meetup 2025
DESCRIPTION:We warmly invite you to our RelNet Meetup 2025\, taking place on Thursday\, September 18\, at the scenic Kopaszi Dam in Budapest\, hosted at Café Ponyvaregény. \nThis day will combine business networking with casual enjoyment\, including a dinner and an entertaining show. The event brings together our vendor partners\, resellers\, and end-user clients to engage in meaningful conversations and new collaborations in a relaxed atmosphere. \nAttendees will also have the opportunity to participate in focused\, pre-scheduled business meetings. Whether you’re an IT leader\, engineer\, consultant\, reseller\, or service provider\, this is your chance to connect\, share insights\, and discover new market opportunities. \nRegister early and earn 50 bonus points in our RelNet eLearning program! \nLocation: Café Ponyvaregény (1117 Budapest\, Kopaszi gát 5.\, Building 12)\nDate: Thursday\, September 18\, 2025 \nTentative Agenda:\n16:00–16:30 – Arrival and registration\n16:30–16:50 – Welcome remarks\n16:50–18:30 – Pre-scheduled business discussions\n18:30–19:30 – Dinner\n19:30–20:30 – Entertainment\n20:30 onward – Informal networking and relaxation \nJoin us at the RelNet Meetup and let’s kick off the autumn season together!
URL:https://relnet.hu/en/rendezveny/relnet-meetup-2025/
LOCATION:Café Ponyvaregény\, Kopaszi gát\, Kopaszi-gát\, 12. épület\, Budapest\, 1117
CATEGORIES:End user,Event,RelNet,Reseller
ATTACH;FMTTYPE=image/jpeg:https://relnet.hu/wp-content/uploads/2025/07/RelNetMeetup2025-min.jpg
END:VEVENT
END:VCALENDAR