BEGIN:VCALENDAR
VERSION:2.0
PRODID:-//RelNet Technológia Kft. - ECPv5.16.4//NONSGML v1.0//EN
CALSCALE:GREGORIAN
METHOD:PUBLISH
XXXXXXXXXXXXXXXXXXXXXXXXXXXXXXXXXXXXXX
XXXXXXXXXXXXXXXXXXXXXXXXXXXXXXXXXXXXX
XXXXXXXXXXXXXXXXXXXXXXXXXXXXXXXXXXXXXXXXXXXXXXXXX
BEGIN:VTIMEZONE
TZID:Europe/Budapest
BEGIN:DAYLIGHT
TZOFFSETFROM:+0100
TZOFFSETTO:+0200
TZNAME:CEST
DTSTART:20230326T010000
END:DAYLIGHT
BEGIN:STANDARD
TZOFFSETFROM:+0200
TZOFFSETTO:+0100
TZNAME:CET
DTSTART:20231029T010000
END:STANDARD
END:VTIMEZONE
BEGIN:VEVENT
DTSTART;TZID=Europe/Budapest:20230915T083000
DTEND;TZID=Europe/Budapest:20230915T230000
DTSTAMP:20260419T204205
CREATED:20230626T103422Z
LAST-MODIFIED:20230914T091511Z
UID:29831-1694766600-1694818800@relnet.hu
SUMMARY:RelNet Partner Day 2023
DESCRIPTION:This year we are continuing the tradition of organizing our major event\, the RelNet Partner Day\, this time on September 15\, 2023. \nThe RelNet Partner Day will once again be a great chance to hear exciting presentations from our vendors and build personal relationships with key system integrators and the biggest customers in Hungary. \nLet’s spend a great day together on Friday\, September 15\, 2023! \nAgenda \nVenue: Ensana Thermal Margitsziget\, Magnólia conference room. Entrance is through the hotel’s special event gate\, which is located between the two Ensana hotels. \n8:30 – 9:00 Arrival\, coffee \n9:00 – 9:10 Official welcome \n9:10 – 9:30 RelNet updates (József Fekete\, Director of Operations\, RelNet Technology) \n9:30 – 10:00 Guest Presentation: Influenced by Number 23 – The New Legislative Landscape (Anna Király\, Cybersecurity Expert\, Authority for the Supervision of Regulated Activities\, Directorate for Cybersecurity Certification) \n10:00 – 10:20 How did Network Traffic Management Become Part of the Core Infrastructure? Let’s Focus on Applications! (László Ványa\, Business Development Manager\, Hungary & Adriatics\, Progress Flowmon) \n10:20 – 10:40 SSH’s Zero Trust Suite for Secure Communications & Access Management (Dietmar Wyhs\, Director Sales CEEME\, SSH.COM) \n10:40 – 11:20 Coffee break \n11:30 – 11:50 Guest Presentation: \n11:50 – 12:10 The Future of Cyber Protection (Ivan Doudin\, Regional GM\, CEE\, Acronis) \n12:10 – 12:30 Continuous Exposure & Threat Management (CETM) with Skybox Security (Frederic Saint-Joigny\, VP Sales\, EMEA\, Skybox Security) \n12:30 – 12:50 Implementation of the Skybox Solution: Development Opportunities in OTP Bank’s Infrastructure (Lajos Böszörményi\, Head of Digital Infrastructure Department\, OTP Bank) \n12:50 – 13:40 Lunch \n13:40 – 14:00 Guest Presentation: ChatGPT and Network Management (Pál Varga\, BME-TMIT tanszékvezető\, BME) \n14:00 – 14:20 Hybrid Cloud Observability – Turning Challenges into Value (Remik Sieminski\, Regional Sales Manager\, SolarWinds) \n14:20 – 14:40 Aligning IT to Business with ManageEngine Offerings (Sajith Menon\, Senior Product Consultant – Strategic Accounts Management team\, ManageEngine) \n14:40 – 15:00 Winning with Extreme (Kristina Osipova\, Partner Account Manager\, CSE\, Extreme Networks) \n15:00 – 15:40 Coffee break \n15:40 – 16:00 Take back the Cyber Advantage (Network Intelligence for Advanced Defense) (László Rácz\, Senior Solution Sales\, RelNet Technology) \n16:00 – 16:20 Application Security and Availability – All about the Good Old Load Balancer (Michael O’Brien\, Senior Sales Engineer\, Progress Kemp) \n16:20 – 16:40 Don’t assume your defensive security works. Validate! (Radek Kucik\, Head of Sales CEE\, Pentera) \n16:40 – 17:00 Quiz game and eLearning award ceremony \n \nEvening program \nEvening program location: Ensana Thermal Margitsziget\, Star Auditorium hall. \n17:00 Arrival \n17:00 – 18:00 Minigolf \n18:00 – 20:00 Buffet dinner \n20:00 – 21:00 Live Concert: Kozma Orsi Quartet \n21:00 – 23:00 Networking \nPlease note\, that the order of the presentations and their topics may still change. \nQuiz game: Partner Day Quiz \nPlease save the date in your calendar or – after logging in to our website – register by clicking on the button above. \nLet’s spend a great day together! \nEntrance to the Partner Day is through the hotel’s special event gate\, which is located between the two Ensana hotels:
URL:https://relnet.hu/en/rendezveny/relnet-partner-day-2023/
LOCATION:Ensana Hotels Thermal & Grand Margitsziget\, Budapest-Margitsziget\, Budapest\, 1007\, Magyarország
CATEGORIES:End user,Event,RelNet,Reseller
ATTACH;FMTTYPE=image/jpeg:https://relnet.hu/wp-content/uploads/2023/06/PrtNap2023HeadFinalEn-min-1.jpg
END:VEVENT
END:VCALENDAR