BEGIN:VCALENDAR
VERSION:2.0
PRODID:-//RelNet Technológia Kft. - ECPv5.16.4//NONSGML v1.0//EN
CALSCALE:GREGORIAN
METHOD:PUBLISH
XXXXXXXXXXXXXXXXXXXXXXXXXXXXXXXXXXXXXX
XXXXXXXXXXXXXXXXXXXXXXXXXXXXXXXXXXXXX
XXXXXXXXXXXXXXXXXXXXXXXXXXXXXXXXXXXXXXXXXXXXXXXXX
BEGIN:VTIMEZONE
TZID:Europe/Budapest
BEGIN:DAYLIGHT
TZOFFSETFROM:+0100
TZOFFSETTO:+0200
TZNAME:CEST
DTSTART:20250330T010000
END:DAYLIGHT
BEGIN:STANDARD
TZOFFSETFROM:+0200
TZOFFSETTO:+0100
TZNAME:CET
DTSTART:20251026T010000
END:STANDARD
END:VTIMEZONE
BEGIN:VEVENT
DTSTART;TZID=Europe/Budapest:20250606T083000
DTEND;TZID=Europe/Budapest:20250606T230000
DTSTAMP:20260420T003200
CREATED:20250312T083823Z
LAST-MODIFIED:20250603T161523Z
UID:37225-1749198600-1749250800@relnet.hu
SUMMARY:RelNet Partner Day 2025
DESCRIPTION:We warmly invite our reseller and end-user partners\, as well as our vendors\, to join us for this year’s RelNet Partner Day on 5 June 2025! We are preparing exciting professional presentations\, relaxation activities\, and an engaging evening program – all in one of the most beautiful green areas of Budapest. \nDate: Thursday\, 5 June 2025 \nVenue: Normafa Rendezvényház (1121 Budapest\, Hegyhát út 16.) \nThe event will offer insightful professional presentations and excellent networking opportunities as well as relaxation\, delicious food and drinks\, and an unforgettable concert experience in the cosy setting of the Normafa Event House. \nPlanned Schedule: \n\n08:30-09:00 ARRIVAL\, REGISTRATION \n09:00-09:20 Opening presentation by RelNet\n9:20-9:50 ZTE: The Catalyst of Intelligent Innovation (Péter Utasi\, Technical Director\, ZTE)\n09:50-10:10  Secure Application Connectivity – Anywhere (Reinhard Eichborn\, Director of Strategic Alliances\, AlgoSec) \n10:10-10:20 COFFEE BREAK \n10:20-10:40 Passwordless Authentication –  Revolutionizing PAM in a Zero-Trust Era (Marta Grimm\, Sales Representative Channel Customer\, SSH Communications Security)\n10:40-11:00 Stormshield – Cybersecurity Built on European Foundations (Ágoston Deim\, Pre-sales Engineer and CEO\, Mind-Info)\n11:00-11:20 Exabeam New-Scale Fusion – Make your SIEM dreams become true (Peter Häufel\, Director Channel and DACH\, Eastern Europe\, Exabeam) \n11:20-11:40 COFFEE BREAK \n11:40-12:00 Threat Hunting Reimagined (Tabatha von Kölichen\, Regional Sales Director\, Censys)\n12:00-12:20 A Piece of NIS2 Cake: A NIS2-Obligated Organization’s Perspective (András Kis-Szabó\, Group CISO\, Kontron) \n12:20-13:20 LUNCH \n13:20-13:50 OT is not IT\, and OT Security is not IT Security (Tamás Kocsis\, IC/OT Security Expert\, Alverad)\n13:50-14:10 OT Security with Real-Time Data about Devices\, People\, and Workflows (László Rácz\, Senior Solution Sales\, RelNet)\n14:10-14:30 Complex Challenges\, Simple(r) Responses – From AI to Compliance (László Ványa\, Business Development Manager\, Progress) \n14:30-14:40 COFFEE BREAK \n14:40-15:10 Everything about Application Performance Monitoring in 30 Minutes (Attila Borbély\, RelNet)\n15:10-15:30 Extrahop: NDR\, NPM\, IDS with Packet Analysis\n15:30-15:50 Fix What Matters. Proactive Security by XM Cyber (Damian Hoffman\, Senior Sales Engineer\, XM Cyber) \n15:50-18:00 Excursion to the Svábhegy Observatory: guided dome visit and presentation in Hungarian*\n18:00-20:00 Buffet dinner\n20:00-21:00 Péterfy Bori & Love Band – live concert\n21:00-23:00 Party \n* Participation is optional. Guests who choose not to attend can enjoy informal discussions and networking at the Normafa Event House.Arrival by the Children’s Railway; return by foot with a 1.6 km scenic walk back to the Partner Day venue. \n\nNote: The planned program is regularly updated\, so we recommend checking this page frequently! We reserve the right to make changes. \nREGISTRATION \nRegistration is now open on our website. We encourage you to register as soon as possible to secure your spot at one of the year’s most popular partner events. \nPlease save the date (5 June 2025) in your calendar\, or – after logging into our website – register by clicking on the registration button above. \nLet’s enjoy another productive and memorable day together at RelNet Partner Day 2025!
URL:https://relnet.hu/en/rendezveny/relnet-partnernap-2025/
LOCATION:Normafa Rendezvényház\, Hegyhát út 16\, Budapest\, 1121\, Magyarország
CATEGORIES:End user,Event,RelNet,Reseller
ATTACH;FMTTYPE=image/jpeg:https://relnet.hu/wp-content/uploads/2025/03/Partnernap2025Head-min.jpg
END:VEVENT
END:VCALENDAR