BEGIN:VCALENDAR
VERSION:2.0
PRODID:-//RelNet Technológia Kft. - ECPv5.16.4//NONSGML v1.0//EN
CALSCALE:GREGORIAN
METHOD:PUBLISH
XXXXXXXXXXXXXXXXXXXXXXXXXXXXXXXXXXXXXX
XXXXXXXXXXXXXXXXXXXXXXXXXXXXXXXXXXXXX
XXXXXXXXXXXXXXXXXXXXXXXXXXXXXXXXXXXXXXXXXXXXXXXXX
BEGIN:VTIMEZONE
TZID:Europe/Budapest
BEGIN:DAYLIGHT
TZOFFSETFROM:+0100
TZOFFSETTO:+0200
TZNAME:CEST
DTSTART:20210328T010000
END:DAYLIGHT
BEGIN:STANDARD
TZOFFSETFROM:+0200
TZOFFSETTO:+0100
TZNAME:CET
DTSTART:20211031T010000
END:STANDARD
END:VTIMEZONE
BEGIN:VEVENT
DTSTART;TZID=Europe/Budapest:20210910T083000
DTEND;TZID=Europe/Budapest:20210910T230000
DTSTAMP:20260422T205658
CREATED:20210709T094832Z
LAST-MODIFIED:20210903T105503Z
UID:16858-1631262600-1631314800@relnet.hu
SUMMARY:RelNet PartnerShip Day on September 10th\, 2021!
DESCRIPTION:We are looking forward to welcoming you in Budapest after a long year of lockdowns. The event will be held on a ship called Budapest which will be cruising the Danube river. Let’s take a journey together from Budapest to the scenic Danube Bend! We will cruise up to the spectacular city of Visegrád and witness a medieval tournament in an authentic medieval setting. \nDuring the day\, useful presentations will enlighten us about remarkable technologies that are modernizing today’s cybersecurity and networking solutions.\nThe evening session starts with the dinner while we are on a sightseeing tour on the Danube river with unparalleled view of Budapest’s historical sites. At the end of the program you can enjoy the live concert of the Gabi Szűcs & Stereo Swing band.\nLet’s spend a great day together! \nVenue: „Budapest” Conference Boat\nDeparture and Arrival Port: MAHART Port\, Budapest\, Szent István Park 1.\nGPS coordinates: N 47.52150\, E 19.05163 \nAGENDA: \n8:30-8:40 Boarding and registration \n8:30-9:00 Breakfast\, coffee \n8:40-8:45 Official welcome\, Péter Varga\, RelNet Technology Ltd.\, Business Development Director \n8:45-9:00  Guest Presentation: Technical Background of the New 5G Services – Pál Varga\, Budapest University of Technology and Economics\, Head of Department of Telecommunications and Media Informatics \n9:00 Ship’s departure to Visegrád \n9:00-9:20 RelNet presentation – József Fekete\, Director of Operations and Péter Varga\, Business Development Director \n9:20-9:40 AI-Driven Enterprise Portfolio Evolution – István Laky\, Juniper Networks\, Senior System Engineer \n9:40-10:00 Complete Network Visibility in the RelNet Portfolio! – László Ványa\, Kemp-Flowmon\, Business Development Manager \n10:00-10:20 How SDP Architecture is Changing Remote Access? – Bartosz Chmielewski\, Ivanti (Pulse Secure)\, Systems Engineer \n10:20-10:40 Cyber Extortion: How to Stay Protected – Eran Danino\, Radware\, Cyber Security and Application Delivery Solutions RSM for South Eastern Europe Region \n10:40-11:10 Coffee break \n11:10-11:30 Highlights from Stormshield: Log Supervisor\, Endpoint Protection EVO\, SN1100 & SNxr1200\, ANSSI DR mode – Olivier Puchadez\, Stormshield\, International Sales Manager \n11:30-11:50 Modern Device Management from Ivanti: MobileIron and Neurons – Miklós Kerékfy\, Ivanti\, Sales Engineer – Eastern Europe \n11:50-12:10 Cloud Managed Networking: Create End-to-End Effortless Networking Experiences with ExtremeCloud™ IQ – Michal Zlesak\, Extreme Networks\, Sales Director Central & South Eastern Europe & Israel \n12:10-12:30 Integrated Surface Attack Management – Avi Corfas\, Skybox Security\, Director\, Central Europe \n12:30 Docking in Visegrád \n12:30-14:00 Lunch in the „Renessaince” Restaurant (pheasant broth\, knuckle of pork\, cabbage steamed in red wine\, chicken breast\, baked potatoes topped with cheese\, chestnut cream\, fruit\, cinnamon cream cake) \n14:00-15:30 Knight Tournament \n15:30 Departure back to Budapest \n15:40-16:00 Guest Presentation: When Trouble Comes! – József Bakk\, IDC Hungary\, Country Manager \n16:00-16:20 Packet Visibility in Any Environment – Tomasz Łodziński\, Garland Technology\, Regional Sales Manager CEE\, Russia & CIS \n16:20-16:50 Coffee break \n16:50-17:10 Digital Keys and Secrets: When to Manage Them\, When to Get Rid of Them – David Wishart\, SSH\, Partnerships Director \n17:10-17:30 IT Service Providers and Acronis – Roland Zieliński\, Acronis\, Territory Sales Executive – CEE \n17:30-17:50 Guest Presentation:  AWS – security behind the scenes – Darko Mesaroš\, Amazon Web Services\, Senior Developer Advocate \n18:00-19:00 Conclusion / RelNet eLearning Award Ceremony / Sightseeing cruise on the Danube (in Budapest)\n\n19:00-20:00 Dinner on the „Budapest” event boat \n20:00-21:00 Concert: Gabi Szűcs & Stereo Swing \n21:00-23:00 Music\, party \nLet’s spend a great day together! \nPLEASE NOTE:\nAccording to the current regulation\, the (EU Digital or other vaccinateion pass) COVID Certificate is needed for the participation in the event. \nThe program may be modified or canceled in the light of the developing pandemic situation or changing regulations.
URL:https://relnet.hu/en/rendezveny/relnet-partnership-day-on-september-10th-2021/
LOCATION:Mahart kikötő: SZENT ISTVÁN PARK 1.\, Szent István park 1.\, Budapest\, 1138\, Magyarország
CATEGORIES:End user,RelNet,Reseller
ATTACH;FMTTYPE=image/png:https://relnet.hu/wp-content/uploads/2021/07/1.png
GEO:N 47.52150;E 19.05163
X-APPLE-STRUCTURED-LOCATION;VALUE=URI;X-ADDRESS=Mahart kikötő: SZENT ISTVÁN PARK 1. Szent István park 1. Budapest 1138 Magyarország;X-APPLE-RADIUS=500;X-TITLE=Szent István park 1.:geo:E 19.05163,N 47.52150
END:VEVENT
END:VCALENDAR