BEGIN:VCALENDAR
VERSION:2.0
PRODID:-//RelNet Technológia Kft. - ECPv5.16.4//NONSGML v1.0//EN
CALSCALE:GREGORIAN
METHOD:PUBLISH
XXXXXXXXXXXXXXXXXXXXXXXXXXXXXXXXXXXXXX
XXXXXXXXXXXXXXXXXXXXXXXXXXXXXXXXXXXXX
XXXXXXXXXXXXXXXXXXXXXXXXXXXXXXXXXXXXXXXXXXXXXXXXX
BEGIN:VTIMEZONE
TZID:Europe/Budapest
BEGIN:DAYLIGHT
TZOFFSETFROM:+0100
TZOFFSETTO:+0200
TZNAME:CEST
DTSTART:20200329T010000
END:DAYLIGHT
BEGIN:STANDARD
TZOFFSETFROM:+0200
TZOFFSETTO:+0100
TZNAME:CET
DTSTART:20201025T010000
END:STANDARD
END:VTIMEZONE
BEGIN:VEVENT
DTSTART;TZID=Europe/Budapest:20201201T150000
DTEND;TZID=Europe/Budapest:20201201T170000
DTSTAMP:20260422T133646
CREATED:20201125T084900Z
LAST-MODIFIED:20201214T154859Z
UID:11713-1606834800-1606842000@relnet.hu
SUMMARY:Security Fast Start - Újraindul a Juniper Networks rendszermérnököknek szóló biztonsági programja
DESCRIPTION:Örömmel hívjuk meg Önt a Juniper Networks második Security Fast Start programjába\, melyet „Fast Start Reloaded” elnevezéssel indítanak útjára és amely a Juniper Connected Security portfólió technikai megvalósítására összpontosít. \nCsatlakozzon az exkluzív élő foglalkozásokhoz\, ahol megismerheti a legújabb fejlesztésektől kezdve\, a technológiákon keresztül\, a Juniper hardveres és szoftveres megoldásait. \nÉrdemes csatlakozni attól függetlenül\, hogy részt vett-e az előző Fast Start-on\, mert ebben a programban a tartalom teljesen megújult. \nIsmerje meg jobban a legújabb Juniper biztonsági termékeket! \nA főbb témák a következők lesznek:\n• Juniper Secure Connect VPN kliens\,\n• ATP-MIST felhőintegráció\,\n• Adaptív fenyegetésprofilozás\,\n• Betekintés a titkosított adatforgalomba. \n  \nA tanfolyam elvégzése után képes lesz pozicionálni és alkalmazni a legújabb Juniper megoldásokat a vállalati biztonsági kihívások kezelésére. \nTovábbá\, ha Ön az első 50 regisztrált közé tartozik és részt vesz mindkét modulon\, a Juniper küld Önnek egy ingyenes Pearson VUE vizsgautalványt\, amellyel Ön egy Juniper Associate\, Specialist vagy Professional vizsgát tehet. \nA voucher egy vizsgakísérletre érvényes.\nA részvételt (előfeltételek nélkül) értékesítési mérnököknek\, IT biztonsági tervezőmérnököknek\, telepítési mérnököknek\, IT biztonsági üzemeltetési (SecOps) csapatoknak és biztonsági tanácsadóknak ajánljuk. \nA program 4 órás\, mely 2 órás foglalkozásokra bontva tekinthető meg a következő időpontokban: (Kérjük\, mindkét napra külön regisztráljon!) \n  \nFast Start Reloaded 2020 – 1. modul: Juniper Connected Security\n2020. december 1. 15:00–17:00 CET\nREGISZTRÁCIÓ\n\nFast Start Reloaded 2020 – 2. modul: Juniper ATP\n2020. december 3. 15:00–17:00 CET\nREGISZTRÁCIÓ\n \nFast Start Reloaded 2020 – 1. modul: Juniper Connected Security\n2020. december 14. 19:00–21:00 CET\nREGISZTRÁCIÓ\n\nFast Start Reloaded 2020 – 2. modul: Juniper ATP\n2020. december 16. 19:00–21:00 CET\nREGISZTRÁCIÓ\n \n \n\nJelentkezzen most!\n  \n\nKapcsolódó tartalom:\nA “Jól teljesítő” piaci szereplők közé sorolta a Juniper Networks és a Sophos vállalati tűzfal termékeit a Forrester Research legfrissebb kutatása \nA Juniper Networks magabiztos vezetőként szerepel a Gartner 2020-as Wired and Wireless LAN jelentésében \nGartner: 2020-ban is ’Vezető’ gyártó a Juniper Networks \nA Juniper Networks-öt a „10 legerősebb” piaci szereplő közé sorolta a Network World \nKapcsolódó képzés:\nJuniper Networks – Akcióban a szoftver-vezérelt biztonságos hálózat \nJuniper Networks – Automatizált\, testreszabott és biztonságos hálózatok – SDSN esettanulmány \nJuniper Networks – A mesterséges intelligencia alkalmazása: hálózat automatizálás Wi-Fi integrációval \nKapcsolódó esemény:\nJuniper webináriumok \nJuniper biztonsági evolúció \n 
URL:https://relnet.hu/en/rendezveny/security-fast-start-ujraindul-a-juniper-networks-rendszermernokoknek-szolo-biztonsagi-programja/2020-12-01/
LOCATION:Virtual event
CATEGORIES:Juniper Networks
ATTACH;FMTTYPE=image/png:https://relnet.hu/wp-content/uploads/2020/11/Head-min-1.png
END:VEVENT
END:VCALENDAR