BEGIN:VCALENDAR
VERSION:2.0
PRODID:-//RelNet Technológia Kft. - ECPv5.16.4//NONSGML v1.0//EN
CALSCALE:GREGORIAN
METHOD:PUBLISH
XXXXXXXXXXXXXXXXXXXXXXXXXXXXXXXXXXXXXX
XXXXXXXXXXXXXXXXXXXXXXXXXXXXXXXXXXXXX
XXXXXXXXXXXXXXXXXXXXXXXXXXXXXXXXXXXXXXXXXXXXXXXXX
BEGIN:VTIMEZONE
TZID:Europe/Budapest
BEGIN:DAYLIGHT
TZOFFSETFROM:+0100
TZOFFSETTO:+0200
TZNAME:CEST
DTSTART:20190331T010000
END:DAYLIGHT
BEGIN:STANDARD
TZOFFSETFROM:+0200
TZOFFSETTO:+0100
TZNAME:CET
DTSTART:20191027T010000
END:STANDARD
END:VTIMEZONE
BEGIN:VEVENT
DTSTART;TZID=Europe/Budapest:20190619T103000
DTEND;TZID=Europe/Budapest:20190619T113000
DTSTAMP:20260420T033241
CREATED:20190607T080538Z
LAST-MODIFIED:20190607T132302Z
UID:2664-1560940200-1560943800@relnet.hu
SUMMARY:Skybox v10 Technical Launch Webinar (Technical Deep-dive for resellers)
DESCRIPTION:Complexity is one of the biggest challenges in enterprise cybersecurity today. That’s why Skybox® Security’s latest version gives you the solutions you need to cut through the noise and focus action where it’s needed most. \nRegister for the webinar to see what’s new in Skybox v10: \n\n\n\nSkybox® Vulnerability Control web client debut\, with customizable dashboards and widgets and simplified deployment\nRisk scoring for vulnerabilities\, assets and groups to better prioritize remediation and track risk reduction over time\nNew views in Skybox® Firewall and Network Assurance to support threat hunters and process-driven users\nExpanded support for hybrid environments — clouds and containers and operational technology security platforms\nSee the web-based Access Analyzer feature\n\n\n\nSimplify vulnerability management\, gain critical risk insight to your infrastructure and endpoints\, and establish your single source of truth — all in one platform. \nSee how in the webinar and live demo. Save your spot\, register today! Registrants will also get access to the presentation recording\, just in case you miss the live webinar. Q&A will be available after the presentation. \n\n \nSkybox v10 Technical Launch Webinar (for Resellers)\nWednesday\, 19 June\, 10:30AM CEST \nTomer Yanovich\, Skybox Product Management Director and Eran Kovalsky\, Skybox SPM Product Line Manager \nREGISTER NOW
URL:https://relnet.hu/en/rendezveny/skybox-v10-technical-launch-webinar-technical-deep-dive-for-resellers/
CATEGORIES:Reseller,Skybox Security,Training,Vendor,Webinar
ATTACH;FMTTYPE=image/png:https://relnet.hu/wp-content/uploads/2019/06/Skybox-webinar.png
END:VEVENT
END:VCALENDAR