BEGIN:VCALENDAR
VERSION:2.0
PRODID:-//RelNet Technológia Kft. - ECPv5.16.4//NONSGML v1.0//EN
CALSCALE:GREGORIAN
METHOD:PUBLISH
XXXXXXXXXXXXXXXXXXXXXXXXXXXXXXXXXXXXXX
XXXXXXXXXXXXXXXXXXXXXXXXXXXXXXXXXXXXX
XXXXXXXXXXXXXXXXXXXXXXXXXXXXXXXXXXXXXXXXXXXXXXXXX
BEGIN:VTIMEZONE
TZID:Europe/Budapest
BEGIN:DAYLIGHT
TZOFFSETFROM:+0100
TZOFFSETTO:+0200
TZNAME:CEST
DTSTART:20200329T010000
END:DAYLIGHT
BEGIN:STANDARD
TZOFFSETFROM:+0200
TZOFFSETTO:+0100
TZNAME:CET
DTSTART:20201025T010000
END:STANDARD
END:VTIMEZONE
BEGIN:VEVENT
DTSTART;TZID=Europe/Budapest:20200414T100000
DTEND;TZID=Europe/Budapest:20200414T110000
DTSTAMP:20260420T021748
CREATED:20200409T113159Z
LAST-MODIFIED:20200409T113242Z
UID:5846-1586858400-1586862000@relnet.hu
SUMMARY:Sohpos Monthly Technical Update
DESCRIPTION:Csatlakozzon 2020. április 14-én a Sophos havi technikai webináriumához!\nA webinárium a következőkre fog kitérni: \nÉlő bemutató segítségével mélyebben belemerülhet a Sophos „Synchronized Security” technikai részleteibe. \nSzó lesz az otthonról történő biztonságos távoli munka kialakításának bevált gyakorlatairól a kliens nélküli VPN\, SSL VPN\, IPSec VPN + RED VPN alkalmazása esetén. \nElőadó: Grzegorz Nocoń (System Engineer Eastern Europe\, Sophos) \nJelentkezzen most!\n\n\nSophos Technical Monthly Update\nÉlő webinárium\n2020. április 14-én 10:00-11:00 CEST \nREGISZTRÁCIÓ\n\nRegisztráljon most!
URL:https://relnet.hu/en/rendezveny/sohpos-monthly-technical-update/
CATEGORIES:Gyártó,Oktatás,Rendezvény,Sophos,Végfelhasználó,Viszonteladó,Webinárium
ATTACH;FMTTYPE=image/png:https://relnet.hu/wp-content/uploads/2020/04/Monthly-Technical-Update.png
END:VEVENT
END:VCALENDAR