BEGIN:VCALENDAR
VERSION:2.0
PRODID:-//RelNet Technológia Kft. - ECPv5.16.4//NONSGML v1.0//EN
CALSCALE:GREGORIAN
METHOD:PUBLISH
XXXXXXXXXXXXXXXXXXXXXXXXXXXXXXXXXXXXXX
XXXXXXXXXXXXXXXXXXXXXXXXXXXXXXXXXXXXX
XXXXXXXXXXXXXXXXXXXXXXXXXXXXXXXXXXXXXXXXXXXXXXXXX
BEGIN:VTIMEZONE
TZID:Europe/Budapest
BEGIN:DAYLIGHT
TZOFFSETFROM:+0100
TZOFFSETTO:+0200
TZNAME:CEST
DTSTART:20220327T010000
END:DAYLIGHT
BEGIN:STANDARD
TZOFFSETFROM:+0200
TZOFFSETTO:+0100
TZNAME:CET
DTSTART:20221030T010000
END:STANDARD
END:VTIMEZONE
BEGIN:VEVENT
DTSTART;TZID=Europe/Budapest:20220906T090000
DTEND;TZID=Europe/Budapest:20220906T133000
DTSTAMP:20260420T033315
CREATED:20220607T100140Z
LAST-MODIFIED:20220718T123511Z
UID:23938-1662454800-1662471000@relnet.hu
SUMMARY:SolarWinds Observability Roadshow
DESCRIPTION:On 6 September\, we will be holding a SolarWinds event for our resellers in Budapest (Kopaszi Dam)\, where SolarWinds experts will present the benefits of the company’s latest ‘Observability’ product strategy\, which provides full visibility for the IT infrastructure. \nBeyond simple monitoring capabilities\, SolarWinds’ solutions focus on monitoring services that provide full network visibility. ‘Observability’ as a product strategy aims to add value by providing SolarWinds customers with additional functionality to support their digital transformation. It also detects incidents and sheds light on the cause of their occurrence\, both in the local IT environment and in the cloud. \nDate: September 6\, 2022 (Tuesday)\, 9:00 CET \nLocation: Café Ponyvaregény (1117 Budapest\, Kopaszi Dam\, Building 12) \n  \nAGENDA: \n9:00-9:30            Arrival\, registration\, coffee\, snack \n9:30-9:45            Opening Remarks and Welcome \n9:45-11:00 \n\nWhy SolarWinds Hybrid Cloud Observability?\nThe Journey to Full-Stack Observability\nHybrid Cloud Observability – Personas\, Packaging\, and Pricing\n\n11:00-11:30       Coffee Break \n11:30-12:15 \n\nObservability Partner Value Proposition\nSolarWinds Channel Partner Plans for 2022\nPanel Discussion\n\n12:15-13:15       Lunch/Networking Event \n  \nPresenters: \nSascha Giese\, Head Geek™\, Senior Technical Product Marketing Manager\, SolarWinds \nChristian Ohsam\, Channel Manager CEUR\, SolarWinds \nJózsef Fekete\, Director of Operations\, RelNet \nGPS coordinates: N47\,4621285; E19\,0609335
URL:https://relnet.hu/en/rendezveny/solarwinds-az-observability-lenyege-es-elonyei/
LOCATION:Café Ponyvaregény\, Kopaszi gát\, Kopaszi-gát\, 12. épület\, Budapest\, 1117
CATEGORIES:Event,Reseller,SolarWinds
ATTACH;FMTTYPE=image/png:https://relnet.hu/wp-content/uploads/2022/06/Observability-min.png
END:VEVENT
END:VCALENDAR