BEGIN:VCALENDAR
VERSION:2.0
PRODID:-//RelNet Technológia Kft. - ECPv5.16.4//NONSGML v1.0//EN
CALSCALE:GREGORIAN
METHOD:PUBLISH
XXXXXXXXXXXXXXXXXXXXXXXXXXXXXXXXXXXXXX
XXXXXXXXXXXXXXXXXXXXXXXXXXXXXXXXXXXXX
XXXXXXXXXXXXXXXXXXXXXXXXXXXXXXXXXXXXXXXXXXXXXXXXX
BEGIN:VTIMEZONE
TZID:Europe/Budapest
BEGIN:DAYLIGHT
TZOFFSETFROM:+0100
TZOFFSETTO:+0200
TZNAME:CEST
DTSTART:20250330T010000
END:DAYLIGHT
BEGIN:STANDARD
TZOFFSETFROM:+0200
TZOFFSETTO:+0100
TZNAME:CET
DTSTART:20251026T010000
END:STANDARD
END:VTIMEZONE
BEGIN:VEVENT
DTSTART;TZID=Europe/Budapest:20251009T130000
DTEND;TZID=Europe/Budapest:20251009T160000
DTSTAMP:20260420T020904
CREATED:20250827T095436Z
LAST-MODIFIED:20250827T095436Z
UID:39172-1760014800-1760025600@relnet.hu
SUMMARY:SolarWinds Day online rendezvény – Az IT jövője megérkezett
DESCRIPTION:A SolarWinds exkluzív online eseménye az IT-üzemeltetés és observability új korszakát mutatja be: miként tehető átláthatóbbá és megbízhatóbbá a hibrid infrastruktúra\, hogyan gyorsítható a hibaelhárítás\, és milyen szerepet kapnak az automatizációs és MI-képességek a mindennapi működésben. \nREGISZTRÁCIÓ\n\n  \nIdőpont: 2025. október 9. (csütörtök) | 13:00-16:00 \nA SolarWinds Day rálátást kínál az IT-üzemeltetés jövőjére\, amelyre a mesterséges intelligencia\, az automatizáció és a teljes stack-observability jellemző. A szakértők technikai részleteiben mutatják be a rendszerek optimalizálását\, a jegykezelés hatékony megoldását\, az adatbázis-menedzsmentet és a kritikus incidensekre adott válaszokat hibrid környezetekben. \nTémák: \n\nAz IT jövője megérkezett – A SolarWinds AI bemutatása\, a ma elérhető ügyfélérték\, a legújabb SolarWinds fejlesztések\, egy igazán nagy bejelentés és egy exkluzív előzetes.\nObservability-rejtély megoldva – Valós példákon alapuló részletek az observability stratégiákról. Hogyan előzhetők meg a teljesítményproblémák\, hogyan kezelhetők az összetett környezetek\, és hogyan finomhangolható a monitorozás?\nDB-rendszergazdai válaszok a felhasználói panaszokra – Mindent az adatbázisok működtetnek. Hogyan hozzuk ki belőlük a maximumot? Tippek az adatbázis-monitorozáshoz és konfiguráláshoz: szűk keresztmetszetek felismerése\, leállások megelőzése\, a rendszerek működésének fenntartása.\nIncidens vs. observability adatok – Az incidensek elkerülhetetlenek\, de a káosz nem. Gyakorlati bemutató a Squadcast bevált módszereiről: okosabb ügyeleti rotációk kialakítása\, riasztásfáradtság csökkentése\, és a reakcióidők felgyorsítása.\nHogyan tehető igazán ütőssé az ITSM – Tegye a Service Desket az egész IT-üzemeltetés központi csomópontjává!
URL:https://relnet.hu/en/rendezveny/solarwinds-day-online-rendezveny-az-it-jovoje-megerkezett/
LOCATION:Virtual event
CATEGORIES:SolarWinds
ATTACH;FMTTYPE=image/jpeg:https://relnet.hu/wp-content/uploads/2025/08/SolarwindsDayOnline2025-min.jpg
END:VEVENT
END:VCALENDAR