BEGIN:VCALENDAR
VERSION:2.0
PRODID:-//RelNet Technológia Kft. - ECPv5.16.4//NONSGML v1.0//EN
CALSCALE:GREGORIAN
METHOD:PUBLISH
XXXXXXXXXXXXXXXXXXXXXXXXXXXXXXXXXXXXXX
XXXXXXXXXXXXXXXXXXXXXXXXXXXXXXXXXXXXX
XXXXXXXXXXXXXXXXXXXXXXXXXXXXXXXXXXXXXXXXXXXXXXXXX
BEGIN:VTIMEZONE
TZID:Europe/Budapest
BEGIN:DAYLIGHT
TZOFFSETFROM:+0100
TZOFFSETTO:+0200
TZNAME:CEST
DTSTART:20240331T010000
END:DAYLIGHT
BEGIN:STANDARD
TZOFFSETFROM:+0200
TZOFFSETTO:+0100
TZNAME:CET
DTSTART:20241027T010000
END:STANDARD
END:VTIMEZONE
BEGIN:VEVENT
DTSTART;TZID=Europe/Budapest:20241127T130000
DTEND;TZID=Europe/Budapest:20241127T140000
DTSTAMP:20260423T004113
CREATED:20241114T093153Z
LAST-MODIFIED:20241114T093153Z
UID:35801-1732712400-1732716000@relnet.hu
SUMMARY:SolarWinds EMEA partneri tájékoztató webinárium
DESCRIPTION:Csatlakozzon a SolarWinds EMEA Partner Sync Q4 webináriumhoz\, amelyen a SolarWinds szakemberei sorra veszik a gyártó év végi prioritásait és 2025-ös terveit. \nREGISZTRÁCIÓ\n\nIdőpont: 2024. november 27. (szerda) | 13:00 \nA partneri Transform program keretében megtartandó webinárium napirendje: \n\n2024-es és 2025-ös beszámoló\nFőbb bejelentések\, beleértve az új pre-sales tanúsítási lehetőséget partnerek számára\nNegyedik negyedévi kibocsátások\, licencek\nA Technical Academy és a „BIG 3” (observability\, szolgáltatásmenedzsment és adatbázis) újdonságai\nKérdések és válaszok\n\nElőadók: \n\nGerdy Dhondt\, Regional Channel Leader for EMEA\nJohn O’Callaghan\, Director of Global Channel Acceleration
URL:https://relnet.hu/en/rendezveny/solarwinds-emea-partneri-tajekoztato-webinarium/
LOCATION:Virtual event
CATEGORIES:SolarWinds,Viszonteladó,Webinárium
ATTACH;FMTTYPE=image/jpeg:https://relnet.hu/wp-content/uploads/2024/11/SolarWIndsEmeaPartnernWebinar-min.jpg
END:VEVENT
END:VCALENDAR