BEGIN:VCALENDAR
VERSION:2.0
PRODID:-//RelNet Technológia Kft. - ECPv5.16.4//NONSGML v1.0//EN
CALSCALE:GREGORIAN
METHOD:PUBLISH
XXXXXXXXXXXXXXXXXXXXXXXXXXXXXXXXXXXXXX
XXXXXXXXXXXXXXXXXXXXXXXXXXXXXXXXXXXXX
XXXXXXXXXXXXXXXXXXXXXXXXXXXXXXXXXXXXXXXXXXXXXXXXX
BEGIN:VTIMEZONE
TZID:Europe/Budapest
BEGIN:DAYLIGHT
TZOFFSETFROM:+0100
TZOFFSETTO:+0200
TZNAME:CEST
DTSTART:20240331T010000
END:DAYLIGHT
BEGIN:STANDARD
TZOFFSETFROM:+0200
TZOFFSETTO:+0100
TZNAME:CET
DTSTART:20241027T010000
END:STANDARD
END:VTIMEZONE
BEGIN:VEVENT
DTSTART;VALUE=DATE:20240219
DTEND;VALUE=DATE:20240224
DTSTAMP:20260422T145115
CREATED:20240207T130009Z
LAST-MODIFIED:20240207T155249Z
UID:32888-1708300800-1708732799@relnet.hu
SUMMARY:SolarWinds EMEA Transform Partner Summit 2024
DESCRIPTION:SolarWinds is hosting its EMEA Partner Conference in Lisbon this year from February 19 to 23 (Monday to Friday). The hybrid event will be open both in person and online. \nDETAILS AND REGISTRATION\n\nSolarWinds will celebrate its partners’ achievements during the 2024 Partner Awards. Participants will gain invaluable sales expertise\, connect with SolarWinds executives and a diverse community of industry-leading partners\, and discover ways to leverage SolarWinds’ constantly evolving product portfolio to accelerate business opportunities. \n\nExecutiv plenary session\nPartner awards\nSales and technical trainings and certifications\nNetworking opportunities\n\nAgenda at a Glance: \n\nMonday\, February 19: Arrivals\, registrations\, dinner\nTuesday\, February 20: Executive plenary (morning)\, breakout sessions (afternoon)\, Partner awards (evening)\nWednesday\, February 21: Sales and technical trainings (SSE1 and SCP 1)\nThursday\, February 22: Technical trainings (SCP 1 and SCP 2)\n\nDate: February 19-23\, 2024 (Monday to Friday) \nDETAILS AND REGISTRATION
URL:https://relnet.hu/en/rendezveny/solarwinds-emea-transform-partner-summit-2024/
LOCATION:Virtual event
CATEGORIES:SolarWinds,Webinar
ATTACH;FMTTYPE=image/jpeg:https://relnet.hu/wp-content/uploads/2024/02/SolarWindsEmea2024-min.jpg
END:VEVENT
END:VCALENDAR