BEGIN:VCALENDAR
VERSION:2.0
PRODID:-//RelNet Technológia Kft. - ECPv5.16.4//NONSGML v1.0//EN
CALSCALE:GREGORIAN
METHOD:PUBLISH
XXXXXXXXXXXXXXXXXXXXXXXXXXXXXXXXXXXXXX
XXXXXXXXXXXXXXXXXXXXXXXXXXXXXXXXXXXXX
XXXXXXXXXXXXXXXXXXXXXXXXXXXXXXXXXXXXXXXXXXXXXXXXX
BEGIN:VTIMEZONE
TZID:Europe/Budapest
BEGIN:DAYLIGHT
TZOFFSETFROM:+0100
TZOFFSETTO:+0200
TZNAME:CEST
DTSTART:20220327T010000
END:DAYLIGHT
BEGIN:STANDARD
TZOFFSETFROM:+0200
TZOFFSETTO:+0100
TZNAME:CET
DTSTART:20221030T010000
END:STANDARD
END:VTIMEZONE
BEGIN:VEVENT
DTSTART;TZID=Europe/Budapest:20220208T110000
DTEND;TZID=Europe/Budapest:20220208T150000
DTSTAMP:20260424T010706
CREATED:20220103T082759Z
LAST-MODIFIED:20220114T101738Z
UID:19664-1644318000-1644332400@relnet.hu
SUMMARY:SolarWinds EMEA Virtual Partner Summit 2022
DESCRIPTION:The EMEA Virtual Partner Summit is one of the most important events of the year for channel Partners to understand the SolarWinds vision of channel strategy\, learn how Partners can grow their business by selling SolarWinds solutions\, see the new product roadmap\, and get technical training for their teams. Register today and secure your seat in the front row of this exciting event extending the whole week from February 7 to February 11\, 2022. \n  \n \nWhy attend?\n\nHear from our exceptional lineup of executive speakers about our strategy and growing focus on the channel business\nLearn about SolarWinds new exciting product portfolio evolution and discover new growth opportunities you may have selling SolarWinds® products and solutions in 2022\nLearn about new business development opportunities through sales of SolarWinds products and solutions\nImprove your sales expertise with the newest SolarWinds Sales Expert (SSE) Accreditation Training and SolarWinds Certified Professional (SCP) Certification\nTake a SolarWinds Certified Professional (SCP) exam free of charge\n\nExecutive Plenary Session and EMEA Partner Awards\nFebruary 8\, 2022 (Tuesday) / 11:00-15:00 (CET) \nOn the Summit’s main event\, top managers of SolarWinds will present various topics\,  including the company’s 2022 strategy\, the Partner Program and Partner Insights\, the EMEA strategy\, the SolarWinds portfolio and roadmap\, and the training opportunities. The 4-hour Plenary Session will conclude with the Partner Awards session. \nSolarWinds Sales Expert Sessions\nSolarWinds® Sales Expert (SSE) accreditations are designed for both our internal and extended sales teams. As a valued partner and attendee of the Partner Summit\, you can complete your accreditations through live\, interactive webcasts. \nFebruary 9\, 2022 (Wednesday) / 10:00-14:00 (CET) – SSE Networks Management accreditation training\nFebruary 9\, 2022 (Wednesday) / 14:30-18:30 (CET) – SSE Foundational V3 accreditation training\nFebruary 10\, 2022 (Thursday) / 14:00-18:00 (CET) – SSE IT Infrastructure SSE accreditation training \nFind out more about the SolarWinds Sales Expert (SSE) accreditations. \nSolarWinds Certified Professional Sessions\nDates: February 7\, 9\, 10\, and 11\, 2022 (Monday through Friday) \nAttendance to the SolarWinds Certified Professional technical training is limited to 30 attendees for each session. You must be nominated to attend an SCP training\, If you are interested in registering\, please contact your SolarWinds Channel Representative or send us your request through the e-mail: emeachannelmarketing@solarwinds.com \nTrainings: \n\nOrion Platform & Network Performance Monitor (NPM)\nDatabase Performance Analyzer (DPA)\, Database Performance Monitor (DPM) & SQL Sentry\nDiagnostics\n\nFind out more about the SolarWinds Certified Professional (SCP) training. \nREGISTER NOW ON THE SUMMIT WEBSITE!\n\nSorces\nSummit website \nSolarWinds Sales Expert Accreditations \nSolarWinds Certified Professional (SCP) Training
URL:https://relnet.hu/en/rendezveny/solarwinds-emea-virtual-partner-summit-2022/
LOCATION:Virtual event
CATEGORIES:Reseller,SolarWinds,Webinar
ATTACH;FMTTYPE=image/png:https://relnet.hu/wp-content/uploads/2022/01/Virtual-Summit-min.png
END:VEVENT
END:VCALENDAR