BEGIN:VCALENDAR
VERSION:2.0
PRODID:-//RelNet Technológia Kft. - ECPv5.16.4//NONSGML v1.0//EN
CALSCALE:GREGORIAN
METHOD:PUBLISH
XXXXXXXXXXXXXXXXXXXXXXXXXXXXXXXXXXXXXX
XXXXXXXXXXXXXXXXXXXXXXXXXXXXXXXXXXXXX
XXXXXXXXXXXXXXXXXXXXXXXXXXXXXXXXXXXXXXXXXXXXXXXXX
BEGIN:VTIMEZONE
TZID:Europe/Budapest
BEGIN:DAYLIGHT
TZOFFSETFROM:+0100
TZOFFSETTO:+0200
TZNAME:CEST
DTSTART:20230326T010000
END:DAYLIGHT
BEGIN:STANDARD
TZOFFSETFROM:+0200
TZOFFSETTO:+0100
TZNAME:CET
DTSTART:20231029T010000
END:STANDARD
END:VTIMEZONE
BEGIN:VEVENT
DTSTART;TZID=Europe/Budapest:20230607T160000
DTEND;TZID=Europe/Budapest:20230607T170000
DTSTAMP:20260420T033402
CREATED:20230531T091510Z
LAST-MODIFIED:20230531T091825Z
UID:29486-1686153600-1686157200@relnet.hu
SUMMARY:SolarWinds Observability Sales Fundamentals Series – Part One
DESCRIPTION:Join us June 7\, 2023\, at 4 PM CEST for “SolarWinds Observability Sales Fundamentals Series — Part One” to begin your learning journey and align with your customers’ top priorities. \nREGISTRER NOW\n\nDate and time: June 7\, 2023 (Wednesday) | 16:00 CEST \nAre you ready to approach your customers and prospect buying teams with more compelling discovery and sales conversations capable of building your credibility and brand when selling SolarWinds Observability? Are you looking to position solutions capable of transforming IT and business outcomes? Do you want a training plan series designed to get you there with the same resources SolarWinds sellers utilize right now? Make every opportunity count in the observability market\, which will grow to $19.4 billion by 2024\, according to Morgan Stanley. \n  \nAfter attending part one of this series\, partner sellers can expect to be able to do the following: \n\nRecognize and commit to what it takes to become a credible solution seller for SolarWinds Observability through an introduction to cloud school\, use cases\, buyer team discovery\, and more\nKnow what\, why\, and where to go to power up sales readiness and competence for better customer conversations\, experiences\, and transformative outcomes\nRaise awareness of SolarWinds product strategy\nEmpower collaboration to accelerate sales of SolarWinds Observability
URL:https://relnet.hu/en/rendezveny/solarwinds-observability-ertekesitesi-alapismeretek-sorozat-elso-resz/
LOCATION:Virtual event
CATEGORIES:SolarWinds
ATTACH;FMTTYPE=image/jpeg:https://relnet.hu/wp-content/uploads/2023/05/SolarWinds_Observability_1_resz_EN-min.jpg
END:VEVENT
END:VCALENDAR