BEGIN:VCALENDAR
VERSION:2.0
PRODID:-//RelNet Technológia Kft. - ECPv5.16.4//NONSGML v1.0//EN
CALSCALE:GREGORIAN
METHOD:PUBLISH
XXXXXXXXXXXXXXXXXXXXXXXXXXXXXXXXXXXXXX
XXXXXXXXXXXXXXXXXXXXXXXXXXXXXXXXXXXXX
XXXXXXXXXXXXXXXXXXXXXXXXXXXXXXXXXXXXXXXXXXXXXXXXX
BEGIN:VTIMEZONE
TZID:Europe/Budapest
BEGIN:DAYLIGHT
TZOFFSETFROM:+0100
TZOFFSETTO:+0200
TZNAME:CEST
DTSTART:20260329T010000
END:DAYLIGHT
BEGIN:STANDARD
TZOFFSETFROM:+0200
TZOFFSETTO:+0100
TZNAME:CET
DTSTART:20261025T010000
END:STANDARD
END:VTIMEZONE
BEGIN:VEVENT
DTSTART;TZID=Europe/Budapest:20260313T080000
DTEND;TZID=Europe/Budapest:20260313T170000
DTSTAMP:20260422T221351
CREATED:20260113T125656Z
LAST-MODIFIED:20260113T125656Z
UID:40956-1773388800-1773421200@relnet.hu
SUMMARY:SolarWinds on-demand webinárium: Hogyan integrálható a GenAI-t az ITSM-be?
DESCRIPTION:A SolarWinds szakértői ebben a videóban bemutatják a pontos munkafolyamatokat és a „receptkönyvet”\, amellyel a top szervezetek egyszerűsítették a döntéshozatalt\, csökkentették a manuális munkát\, és mérhető hatékonyságnövekedést értek el. \nA 2025-ös State of ITSM jelentés szerint a legjobban teljesítő szervezetek egy szűk csoportja elképesztő eredményt ért el: a generatív mesterséges intelligencia stratégiai integrálásával 54\,3%-kal csökkentették a hibajavítási időt. \nKattintson és nézze meg a rögzített webináriumot\, amelyből tájékozódhat az alábbiakról: \n\nA stratégia dekonstruálása: Megismerheti a top 10 GenAI-t alkalmazó szervezet által használt mintákat\, akik az MI segítségével érték el a kimagasló eredményeket.\nA módszertan a gyakorlatban: Élő demókon keresztül láthatja\, hogyan gyorsítja fel a GenAI az alapvető ITSM feladatokat\, például a megoldási döntéseket és az incidens-összefoglalókat\, méghozzá a manuális lépések kiiktatásával.\nSaját ütemterv kidolgozása: Megtudhatja\, hogyan kombinálható a GenAI a bevált ITSM gyakorlatokkal (automatizációval és tudásmenedzsmenttel) egy skálázhatóbb és ellenállóbb Service Desk kialakításához.\n\nElőadók: \n\nLauren Okruch\, Senior Staff Product Marketing Manager\nMichael Clark\, ITSM SE
URL:https://relnet.hu/en/rendezveny/solarwinds-on-demand-webinarium-hogyan-integralhato-a-genai-t-az-itsm-be/
LOCATION:Virtual event
CATEGORIES:SolarWinds
ATTACH;FMTTYPE=image/png:https://relnet.hu/wp-content/uploads/2026/01/solarwinds-genai-itsm.png
END:VEVENT
END:VCALENDAR