BEGIN:VCALENDAR
VERSION:2.0
PRODID:-//RelNet Technológia Kft. - ECPv5.16.4//NONSGML v1.0//EN
CALSCALE:GREGORIAN
METHOD:PUBLISH
XXXXXXXXXXXXXXXXXXXXXXXXXXXXXXXXXXXXXX
XXXXXXXXXXXXXXXXXXXXXXXXXXXXXXXXXXXXX
XXXXXXXXXXXXXXXXXXXXXXXXXXXXXXXXXXXXXXXXXXXXXXXXX
BEGIN:VTIMEZONE
TZID:Europe/Budapest
BEGIN:DAYLIGHT
TZOFFSETFROM:+0100
TZOFFSETTO:+0200
TZNAME:CEST
DTSTART:20250330T010000
END:DAYLIGHT
BEGIN:STANDARD
TZOFFSETFROM:+0200
TZOFFSETTO:+0100
TZNAME:CET
DTSTART:20251026T010000
END:STANDARD
END:VTIMEZONE
BEGIN:VEVENT
DTSTART;TZID=Europe/Budapest:20250402T120000
DTEND;TZID=Europe/Budapest:20250402T130000
DTSTAMP:20260420T003304
CREATED:20250228T084556Z
LAST-MODIFIED:20250228T084556Z
UID:37049-1743595200-1743598800@relnet.hu
SUMMARY:SolarWinds webinárium – A működési reziliencia korszaka
DESCRIPTION:A virtuális rendezvényen a SolarWinds termékszakértői és vezetői bemutatják\, miként teszi lehetővé a SolarWinds a szervezetek számára\, hogy növeljék rezilienciájukat\, racionalizálják az üzemeltetést és minimalizálják az állásidőt. \nREGISZTRÁCIÓ\n\nIdőpont: 2025. április 2 (szerda) | 12:00-13:00 \nA digitális átalakulás\, a költségoptimalizálás és az eszközkonszolidáció ellenére egyes szervezetek informatikai rendszerei továbbra sem kellő mértékben stabilak\, hiszen a hibrid IT-ökoszisztémák gyakran követhetetlen ütemben fejlődnek. Az IT-csapatoknak új megközelítésre van szükségük a láthatóság és a szolgáltatáskezelés terén. \nAz esemény hasznos betekintést nyújt a hibrid IT jövőjébe\, valamint a következőkbe: \n\nA SolarWinds MI-alapú láthatósági\, adatbázis- és szolgáltatáskezelési megoldásainak csúcsinnovációi\nVégponttól végpontig terjedő láthatóság\, automatizálás és valós idejű vizualizáció a hibrid környezetek zökkenőmentes teljesítményének biztosításához\nBetekintés egy új fejlesztésbe\, amelynek célja az üzemeltetési reziliencia növelése és az IT-folyamatok racionalizálása\n\nRegisztráljon most!
URL:https://relnet.hu/en/rendezveny/solarwinds-webinarium-a-mukodesi-reziliencia-korszaka/
LOCATION:Virtual event
CATEGORIES:SolarWinds
ATTACH;FMTTYPE=image/jpeg:https://relnet.hu/wp-content/uploads/2025/02/SolarWindsReziliencia-min.jpg
END:VEVENT
END:VCALENDAR