BEGIN:VCALENDAR
VERSION:2.0
PRODID:-//RelNet Technológia Kft. - ECPv5.16.4//NONSGML v1.0//EN
CALSCALE:GREGORIAN
METHOD:PUBLISH
XXXXXXXXXXXXXXXXXXXXXXXXXXXXXXXXXXXXXX
XXXXXXXXXXXXXXXXXXXXXXXXXXXXXXXXXXXXX
XXXXXXXXXXXXXXXXXXXXXXXXXXXXXXXXXXXXXXXXXXXXXXXXX
BEGIN:VTIMEZONE
TZID:Europe/Budapest
BEGIN:DAYLIGHT
TZOFFSETFROM:+0100
TZOFFSETTO:+0200
TZNAME:CEST
DTSTART:20190331T010000
END:DAYLIGHT
BEGIN:STANDARD
TZOFFSETFROM:+0200
TZOFFSETTO:+0100
TZNAME:CET
DTSTART:20191027T010000
END:STANDARD
END:VTIMEZONE
BEGIN:VEVENT
DTSTART;TZID=Europe/Budapest:20191210T100000
DTEND;TZID=Europe/Budapest:20191210T110000
DTSTAMP:20260420T123148
CREATED:20191202T161256Z
LAST-MODIFIED:20191203T085510Z
UID:4193-1575972000-1575975600@relnet.hu
SUMMARY:SOPHOS MOBILE – Biztonságos\, egységes végpont-menedzsment webinárium
DESCRIPTION:A mobil eszközök is végpontok\, ezért fenyegetéseknek és támadásoknak kitettek. Ez azt jelenti\, hogy a bizalmas vállalati adatok védelem nélkül maradhatnak\, ha mobil eszközökön hozzáférhetőek. \nCsatlakozzon a Sophos webináriumához és tudja meg közvetlenül Thomas Lippert-től (Principal Product Manager – Mobile)\, hogyan lehet a mobil eszközök védelmét megfelelő módon biztosítani. Az előadás a Sophos Mobile 9.5-re koncentrál\, amely új funkciókat és kiegészítő védelmet nyújt az okostelefonoknak és a táblagépeknek. \n A webinárium során a következőkről hallhat részletesen: \n• Tippek arra\, hogyan védje mobiltelefonon levő adatait a Sophos Mobile segítségével \n• Megújult az Android-eszközök kezelése \n• A Chromebook biztonsági kezelése \n• InterceptX mobilra \n\n\nJelentkezzen már most! \nSOPHOS MOBILE – Secure Unified Endpoint Management\nWebinar\n2019. december 10. 10:00-11:00 CET \nREGISZTRÁCIÓ
URL:https://relnet.hu/en/rendezveny/sophos-mobile-biztonsagos-egyseges-vegpont-menedzsment-webinarium/
CATEGORIES:Gyártó,Sophos,Végfelhasználó,Viszonteladó,Webinárium
ATTACH;FMTTYPE=image/png:https://relnet.hu/wp-content/uploads/2019/12/Webinar.png
END:VEVENT
END:VCALENDAR