BEGIN:VCALENDAR
VERSION:2.0
PRODID:-//RelNet Technológia Kft. - ECPv5.16.4//NONSGML v1.0//EN
CALSCALE:GREGORIAN
METHOD:PUBLISH
XXXXXXXXXXXXXXXXXXXXXXXXXXXXXXXXXXXXXX
XXXXXXXXXXXXXXXXXXXXXXXXXXXXXXXXXXXXX
XXXXXXXXXXXXXXXXXXXXXXXXXXXXXXXXXXXXXXXXXXXXXXXXX
BEGIN:VTIMEZONE
TZID:Europe/Budapest
BEGIN:DAYLIGHT
TZOFFSETFROM:+0100
TZOFFSETTO:+0200
TZNAME:CEST
DTSTART:20230326T010000
END:DAYLIGHT
BEGIN:STANDARD
TZOFFSETFROM:+0200
TZOFFSETTO:+0100
TZNAME:CET
DTSTART:20231029T010000
END:STANDARD
END:VTIMEZONE
BEGIN:VEVENT
DTSTART;TZID=Europe/Budapest:20231005T100000
DTEND;TZID=Europe/Budapest:20231005T163000
DTSTAMP:20260420T134018
CREATED:20231002T081049Z
LAST-MODIFIED:20231002T081049Z
UID:31019-1696500000-1696523400@relnet.hu
SUMMARY:SSH.COM kétnapos partnertalálkozó
DESCRIPTION:Vegyen részt személyesen vagy online az SSH.COM régiós partnertalálkozóján\, amely 2023. október 5-én kerül megrendezésre Helsinkiben! \nREGISZTRÁCIÓ\n\nA kétnapos találkozón szó lesz az SSH.COM meglévő termékportfóliójáról\, fejlesztési tervekről\, a PrivX-ről és a kvantumbiztos megoldásról is. A rendezvény keretein belül a sales és a presales képzések külön blokkokba lesznek csoportosítva. \nAki személyesen vesz részt a találkozón\, annak fontos információ lehet\, hogy a rendezvény kapcsolatépítési lehetőséggel és vacsorával indul egy nappal korábban (október 4-én\, szerdán) délután 16 órától. \nIdőpont: 2023. október 5. (csütörtök) | 10:00 – 16:30
URL:https://relnet.hu/en/rendezveny/ssh-com-ketnapos-partnertalalkozo/
LOCATION:Helsinki
CATEGORIES:SSH
ATTACH;FMTTYPE=image/jpeg:https://relnet.hu/wp-content/uploads/2023/10/SSH2naposTalalkozo-min.jpg
END:VEVENT
END:VCALENDAR