BEGIN:VCALENDAR
VERSION:2.0
PRODID:-//RelNet Technológia Kft. - ECPv5.16.4//NONSGML v1.0//EN
CALSCALE:GREGORIAN
METHOD:PUBLISH
XXXXXXXXXXXXXXXXXXXXXXXXXXXXXXXXXXXXXX
XXXXXXXXXXXXXXXXXXXXXXXXXXXXXXXXXXXXX
XXXXXXXXXXXXXXXXXXXXXXXXXXXXXXXXXXXXXXXXXXXXXXXXX
BEGIN:VTIMEZONE
TZID:Europe/Budapest
BEGIN:DAYLIGHT
TZOFFSETFROM:+0100
TZOFFSETTO:+0200
TZNAME:CEST
DTSTART:20230326T010000
END:DAYLIGHT
BEGIN:STANDARD
TZOFFSETFROM:+0200
TZOFFSETTO:+0100
TZNAME:CET
DTSTART:20231029T010000
END:STANDARD
END:VTIMEZONE
BEGIN:VEVENT
DTSTART;TZID=Europe/Budapest:20230919T140000
DTEND;TZID=Europe/Budapest:20230919T150000
DTSTAMP:20260420T015145
CREATED:20230829T135949Z
LAST-MODIFIED:20230829T135949Z
UID:30638-1695132000-1695135600@relnet.hu
SUMMARY:SSH.COM partneri webinárium: Zero Trust termékcsomag és a Beyond Identity integráció
DESCRIPTION:Az SSH.COM partneri webináriumai újfajta lehetőséget kínálnak arra\, hogy a viszonteladó partnerek képbe kerüljenek a gyártó legújabb termékeiről és megoldásairól. Ez a webinárium a Zero Trust termékcsomagról és a Beyond Identity integrációról fog szólni. \nREGISZTRÁCIÓ\n\nIdőpont: 2023. szeptember 19. (kedd) | 14:00 – 15:00 \nTémák: \n\nHogyan segíthet az SSH Zero Trust termékcsomag az ügyfeleknek abban\, hogy megvalósítsák a nulla bizalmon alapuló jogosultsági rendszert?\nHogyan valósítható meg a hitelesítő adatok nélküli (credential-less) jogosultsági rendszer?\nMit jelent a jelszó nélküli biometrikus hitelesítés\, és hogyan néz ki a gyakorlatban?\nÉrtékesítési technikák\nAz SSH.COM és a Beyond Identity közös megoldásának bemutatása\n\nAz SSH.COM előadói: \n\nDavid Wishart\, VP Global Professional Services and Partnerships\nMarta Grimm\, Channel Manager for EMEA\nJuuso Pesola\, Head of Technology Partnerships
URL:https://relnet.hu/en/rendezveny/ssh-com-partneri-webinarium-zero-trust-termekcsomag-es-a-beyond-identity-integracio/
LOCATION:Virtual event
CATEGORIES:SSH
ATTACH;FMTTYPE=image/jpeg:https://relnet.hu/wp-content/uploads/2023/08/SSHZeroTrustBeyondIndetify-min.jpg
END:VEVENT
END:VCALENDAR