BEGIN:VCALENDAR
VERSION:2.0
PRODID:-//RelNet Technológia Kft. - ECPv5.16.4//NONSGML v1.0//EN
CALSCALE:GREGORIAN
METHOD:PUBLISH
XXXXXXXXXXXXXXXXXXXXXXXXXXXXXXXXXXXXXX
XXXXXXXXXXXXXXXXXXXXXXXXXXXXXXXXXXXXX
XXXXXXXXXXXXXXXXXXXXXXXXXXXXXXXXXXXXXXXXXXXXXXXXX
BEGIN:VTIMEZONE
TZID:Europe/Budapest
BEGIN:DAYLIGHT
TZOFFSETFROM:+0100
TZOFFSETTO:+0200
TZNAME:CEST
DTSTART:20240331T010000
END:DAYLIGHT
BEGIN:STANDARD
TZOFFSETFROM:+0200
TZOFFSETTO:+0100
TZNAME:CET
DTSTART:20241027T010000
END:STANDARD
END:VTIMEZONE
BEGIN:VEVENT
DTSTART;TZID=Europe/Budapest:20240220T140000
DTEND;TZID=Europe/Budapest:20240220T150000
DTSTAMP:20260420T041425
CREATED:20240216T094410Z
LAST-MODIFIED:20240216T094410Z
UID:32923-1708437600-1708441200@relnet.hu
SUMMARY:SSH.COM webinárium partnerek számára
DESCRIPTION:NIS2 és DORA megfelelőség a gyakorlatban az SSH „Zero Trust” megoldásaival. \nREGISZTRÁCIÓ\n\nA NIS2 és a DORA szabályozással kapcsolatos ismeretek és eszközök felkészítik Önt arra\, hogy hatékonyan tudja értékesíteni a megfelelőséget elősegítő SSH-megoldásokat. \nTémák: \n\nEligazodás a NIS2 és a DORA irányelvekben: a legfontosabb követelmények és intézkedések\nHogyan segíthetnek az SSH-megoldások a szervezeteknek a megfelelőség betartásában és az erőforrások optimalizálásban\, miközben javítják a biztonságot?\nSSH Zero Trust Suite – Fokozott biztonság és rugalmaság a hozzáférés-kezelés terén\nÉrtékesítési lehetőségek bővítése – Új ügyfélszegmensek és piaci lehetőségek azonosítása a megfelelőségi követelmények megértése révén\n\nIdőpont: 2024. február 20. (kedd) | 14 óra \nREGISZTRÁCIÓ
URL:https://relnet.hu/en/rendezveny/ssh-com-webinarium-partnerek-szamara/
LOCATION:Virtual event
CATEGORIES:SSH,Webinárium
ATTACH;FMTTYPE=image/jpeg:https://relnet.hu/wp-content/uploads/2024/02/SSHNis2Dora-min.jpg
END:VEVENT
END:VCALENDAR