BEGIN:VCALENDAR
VERSION:2.0
PRODID:-//RelNet Technológia Kft. - ECPv5.16.4//NONSGML v1.0//EN
CALSCALE:GREGORIAN
METHOD:PUBLISH
XXXXXXXXXXXXXXXXXXXXXXXXXXXXXXXXXXXXXX
XXXXXXXXXXXXXXXXXXXXXXXXXXXXXXXXXXXXX
XXXXXXXXXXXXXXXXXXXXXXXXXXXXXXXXXXXXXXXXXXXXXXXXX
BEGIN:VTIMEZONE
TZID:Europe/Budapest
BEGIN:DAYLIGHT
TZOFFSETFROM:+0100
TZOFFSETTO:+0200
TZNAME:CEST
DTSTART:20240331T010000
END:DAYLIGHT
BEGIN:STANDARD
TZOFFSETFROM:+0200
TZOFFSETTO:+0100
TZNAME:CET
DTSTART:20241027T010000
END:STANDARD
END:VTIMEZONE
BEGIN:VEVENT
DTSTART;TZID=Europe/Budapest:20240416T150000
DTEND;TZID=Europe/Budapest:20240416T160000
DTSTAMP:20260422T180130
CREATED:20240415T075431Z
LAST-MODIFIED:20240415T075431Z
UID:33453-1713279600-1713283200@relnet.hu
SUMMARY:SSH webinárium az OT kiberbiztonságról
DESCRIPTION:Vegyen részt az SSH és a Stora Enso közös rendezésű webináriumán! Az ipari (OT) környezetek kiberbiztonsága kerül napirendre olyan kulcsfontosságú témákkal\, mint a kockázatkezelés\, a biztonsági protokollok és a termelékenység optimalizálása. \nREGISZTRÁCIÓ\n\nIdőpont: 2024. április 16. (kedd) | 15:00 \nTudja meg\, hogyan \n\nhozhat létre erős személyazonosság- és hozzáférés-kezelési (IAM) megoldásokat OT környezetekben;\nkezelheti a legacy rendszerek és a felhőre történő átmenet növekvő trendje által támasztott kihívásokat;\nelemezheti az OT kiberbiztonság kulcsfontosságú összetevőit a hálózati infrastruktúrától a végpontokig;\nfedezheti fel a PAM funkcióit és fontosságát az OT-ben\, beleértve a jóváhagyók szerepét és más kulcsfontosságú szempontokat;\nküzdheti le azokat a kihívásokat\, amelyek az IAM-megoldások bevezetése során felmerülhetnek;\nintegrálhatja Microsoft Entra környezetét a PAM-megoldással.\n\nTovábbi témák: \n\nA biztonságos hozzáférés megteremtésének nehézségei\nRések a „Just-Enough-Access” (JEA) és a „Just-in-Time” (JIT) elérésében\nA VPN kapcsolat kockázatai\nHiányos láthatóság\, naplózás és auditálás\nA felhasználói tevékenység nyomonkövetésének fontossága\n\nElőadók: \n\nJuha Suominen\, Service Delivery Manager\, Stora Enso\nRami Raulas\, Interim CEO\, SSH\n\nREGISZTRÁCIÓ
URL:https://relnet.hu/en/rendezveny/ssh-webinarium-az-ot-kiberbiztonsagrol/
LOCATION:Virtual event
CATEGORIES:SSH
ATTACH;FMTTYPE=image/jpeg:https://relnet.hu/wp-content/uploads/2024/04/SSHOTWebinar-min.jpg
END:VEVENT
END:VCALENDAR