BEGIN:VCALENDAR
VERSION:2.0
PRODID:-//RelNet Technológia Kft. - ECPv5.16.4//NONSGML v1.0//EN
CALSCALE:GREGORIAN
METHOD:PUBLISH
XXXXXXXXXXXXXXXXXXXXXXXXXXXXXXXXXXXXXX
XXXXXXXXXXXXXXXXXXXXXXXXXXXXXXXXXXXXX
XXXXXXXXXXXXXXXXXXXXXXXXXXXXXXXXXXXXXXXXXXXXXXXXX
BEGIN:VTIMEZONE
TZID:Europe/Budapest
BEGIN:DAYLIGHT
TZOFFSETFROM:+0100
TZOFFSETTO:+0200
TZNAME:CEST
DTSTART:20240331T010000
END:DAYLIGHT
BEGIN:STANDARD
TZOFFSETFROM:+0200
TZOFFSETTO:+0100
TZNAME:CET
DTSTART:20241027T010000
END:STANDARD
END:VTIMEZONE
BEGIN:VEVENT
DTSTART;TZID=Europe/Budapest:20240905T093000
DTEND;TZID=Europe/Budapest:20240905T113000
DTSTAMP:20260420T145404
CREATED:20240821T083319Z
LAST-MODIFIED:20240821T083414Z
UID:34652-1725528600-1725535800@relnet.hu
SUMMARY:SSH Zero Trust Suite pre-sales képzés
DESCRIPTION:Csatlakozzon az SSH háromnapos online képzéséhez\, és szerezze meg a hivatalos Zero Trust Suite pre-sales tanúsítást! \nREGISZTRÁCIÓ\n\nIdőpont: 2024. szeptember 3.\, 4.\, 5. (kedd\, szerda\, csütörtök) | 9:30-11:30 \nA háromszor kétórás előadásokon Teemu Suuronen\, az SSH szakértője a gyártó Zero Trust termékegyüttesének technikai részleteiről és pre-sales vonatkozásairól fog beszélni. \n1. nap: PrivX\, az SSH teljeskörű PAM megoldása \n2. nap: Universal Key Manager (UKM)\, a Zero Trust Suite kulcsmentes hozzáférési megoldása \n3. nap: tanúsítás\, kérdések-válaszok
URL:https://relnet.hu/en/rendezveny/ssh-zero-trust-suite-pre-sales-kepzes/2024-09-05/
LOCATION:Virtual event
CATEGORIES:SSH
ATTACH;FMTTYPE=image/jpeg:https://relnet.hu/wp-content/uploads/2024/08/SSHZeroSuitePresales-min.jpg
END:VEVENT
END:VCALENDAR