BEGIN:VCALENDAR
VERSION:2.0
PRODID:-//RelNet Technológia Kft. - ECPv5.16.4//NONSGML v1.0//EN
CALSCALE:GREGORIAN
METHOD:PUBLISH
XXXXXXXXXXXXXXXXXXXXXXXXXXXXXXXXXXXXXX
XXXXXXXXXXXXXXXXXXXXXXXXXXXXXXXXXXXXX
XXXXXXXXXXXXXXXXXXXXXXXXXXXXXXXXXXXXXXXXXXXXXXXXX
BEGIN:VTIMEZONE
TZID:Europe/Budapest
BEGIN:DAYLIGHT
TZOFFSETFROM:+0100
TZOFFSETTO:+0200
TZNAME:CEST
DTSTART:20250330T010000
END:DAYLIGHT
BEGIN:STANDARD
TZOFFSETFROM:+0200
TZOFFSETTO:+0100
TZNAME:CET
DTSTART:20251026T010000
END:STANDARD
END:VTIMEZONE
BEGIN:VEVENT
DTSTART;TZID=Europe/Budapest:20250604T100000
DTEND;TZID=Europe/Budapest:20250604T140000
DTSTAMP:20260420T003238
CREATED:20250521T131951Z
LAST-MODIFIED:20250521T134540Z
UID:38034-1749031200-1749045600@relnet.hu
SUMMARY:Tanúsítványt adó Acronis képzés – MSP-szolgáltatások Microsoft 365-re építve!
DESCRIPTION:Regisztráljon az Acronis Academy exkluzív online tréningjére\, és szerezze meg a tanúsítványt mindössze 4 óra alatt! \nREGISZTRÁCIÓ\n\n  \nIdőpont: 2025. június 4. (szerda) | 10:00-14:00 \nA Microsoft 365 a legtöbb ügyfél első számú kollaborációs platformja\, de beépített adatvédelemmel és biztonsági mentéssel nem rendelkezik. Az Acronis megoldásai éppen ezeket a hiányokat fedik le\, és kiváló lehetőséget biztosítanak az MSP-partnerek számára a szolgáltatások bővítésére. \nAz angol nyelvű webinárium során az Acronis bemutatja\, hogyan emelhető egy Microsoft 365-fókuszú MSP szolgáltatás magasabb szintre az Acronis Cyber Protect Cloud segítségével. \nTémák: \n\nHogyan állítható be gyorsan az Acronis Cyber Protect Cloud Microsoft 365 környezetekhez\nTestreszabható házirendek\, biztonsági beállítások és az Advanced Email Security lehetőségei\nKulcsfontosságú funkciók: sérülékenységvizsgálat\, patch menedzsment és e-mail szűrés\nHogyan támogatja az Acronis az adatvédelmi és megfelelőségi elvárásokat\n\nMiért érdemes részt venni? \n\nEgyetlen tömör\, 3–4 órás képzés\nTanúsítást biztosító képzés\nGyakorlatorientált demók Microsoft 365 biztonsági mentésre\, archiválásra\, e-mail és Teams adatvédelemre\nEladási és keresztértékesítési stratégiák Microsoft 365 szolgáltatásokra építve\n\nElőadó: Markus Bauer\, Senior Technology Evangelist\, EMEA\, Acronis \n 
URL:https://relnet.hu/en/rendezveny/tanusitvanyt-ado-acronis-kepzes-msp-szolgaltatasok-microsoft-365-re-epitve/
LOCATION:Virtual event
CATEGORIES:Acronis
ATTACH;FMTTYPE=image/jpeg:https://relnet.hu/wp-content/uploads/2025/05/AcronisMspMicrosoft-min-1.jpg
END:VEVENT
END:VCALENDAR