BEGIN:VCALENDAR
VERSION:2.0
PRODID:-//RelNet Technológia Kft. - ECPv5.16.4//NONSGML v1.0//EN
CALSCALE:GREGORIAN
METHOD:PUBLISH
XXXXXXXXXXXXXXXXXXXXXXXXXXXXXXXXXXXXXX
XXXXXXXXXXXXXXXXXXXXXXXXXXXXXXXXXXXXX
XXXXXXXXXXXXXXXXXXXXXXXXXXXXXXXXXXXXXXXXXXXXXXXXX
BEGIN:VTIMEZONE
TZID:Europe/Budapest
BEGIN:DAYLIGHT
TZOFFSETFROM:+0100
TZOFFSETTO:+0200
TZNAME:CEST
DTSTART:20190331T010000
END:DAYLIGHT
BEGIN:STANDARD
TZOFFSETFROM:+0200
TZOFFSETTO:+0100
TZNAME:CET
DTSTART:20191027T010000
END:STANDARD
BEGIN:DAYLIGHT
TZOFFSETFROM:+0100
TZOFFSETTO:+0200
TZNAME:CEST
DTSTART:20200329T010000
END:DAYLIGHT
BEGIN:STANDARD
TZOFFSETFROM:+0200
TZOFFSETTO:+0100
TZNAME:CET
DTSTART:20201025T010000
END:STANDARD
END:VTIMEZONE
BEGIN:VEVENT
DTSTART;TZID=Europe/Budapest:20190801T080000
DTEND;TZID=Europe/Budapest:20200120T170000
DTSTAMP:20260420T032445
CREATED:20190704T143458Z
LAST-MODIFIED:20190704T145337Z
UID:3124-1564646400-1579539600@relnet.hu
SUMMARY:The evolution of 3rd party access – four use cases
DESCRIPTION:Benchmark how industry leaders manage 3rd party access and identities!\nSign up now for our joint presentation with Ubisecure and listen when convenient for you:\n3rd parties constantly access your mission-critical data.\n\nIs your privileged access lifecycle streamlined\, controlled and secure in the era of the cloud?\n\nUbisecure and SSH.COM discuss how cloudification has changed the rules of mission-critical access.\nExplore how business is driving the urgent need to open 3rd party access\n\n\n \n\nLearn how to securely and cost-effectively handle temporary access to critical systems and data\n \nRegister now!\n \n\nREGISTER\n \n\n \n \n 
URL:https://relnet.hu/en/rendezveny/the-evolution-of-3rd-party-access-four-use-cases/
CATEGORIES:End user,Reseller,SSH,Vendor,Webinar
ATTACH;FMTTYPE=image/png:https://relnet.hu/wp-content/uploads/2019/07/SSH_webinar.png
END:VEVENT
END:VCALENDAR