BEGIN:VCALENDAR
VERSION:2.0
PRODID:-//RelNet Technológia Kft. - ECPv5.16.4//NONSGML v1.0//EN
CALSCALE:GREGORIAN
METHOD:PUBLISH
XXXXXXXXXXXXXXXXXXXXXXXXXXXXXXXXXXXXXX
XXXXXXXXXXXXXXXXXXXXXXXXXXXXXXXXXXXXX
XXXXXXXXXXXXXXXXXXXXXXXXXXXXXXXXXXXXXXXXXXXXXXXXX
BEGIN:VTIMEZONE
TZID:Europe/Budapest
BEGIN:DAYLIGHT
TZOFFSETFROM:+0100
TZOFFSETTO:+0200
TZNAME:CEST
DTSTART:20250330T010000
END:DAYLIGHT
BEGIN:STANDARD
TZOFFSETFROM:+0200
TZOFFSETTO:+0100
TZNAME:CET
DTSTART:20251026T010000
END:STANDARD
END:VTIMEZONE
BEGIN:VEVENT
DTSTART;TZID=Europe/Budapest:20250625T120000
DTEND;TZID=Europe/Budapest:20250625T133000
DTSTAMP:20260420T053517
CREATED:20250619T093255Z
LAST-MODIFIED:20250619T093255Z
UID:38391-1750852800-1750858200@relnet.hu
SUMMARY:Útmutató az Acronis Cyber Protect Cloud bevezetéséhez - webinárium
DESCRIPTION:Csatlakozzon Ön is az élő webináriumhoz\, amely során az Acronis Solutions Engineering csapata gyakorlati útmutatót ad a Cyber Protect Cloud rendszer bevezetéséhez! \nREGISZTRÁCIÓ\n\nIdőpont: 2025. június 25. (szerda) | 12:00–13:30\nElőadó: Boris Kazakov\, Solution Engineer\, Acronis \nAz 1 órás oktatási szakaszt egy 15 perces kérdések-válaszok rész követi\, ahol kérdések tehetők fel a szakértőknek. \nEgy új technológiai megoldás bevezetése sokszor időigényes és bizonytalan lépésekkel jár\, főleg az MSP szolgáltatók számára. Az Acronis Cyber Protect Cloud viszont gyorsan és egyszerűen telepíthető\, sőt\, a bevezetése fel is gyorsítható. \nTémák: \n\nÜgynökprogram telepítése\, ismerkedés a menedzsment portállal\nTenant létrehozása\, testreszabott védelmi terv és ajánlati elemek beállítása\nÉrtesítések és riportok konfigurálása\nAlapismeretek az Acronis Partner Portálról\nKérdések\, válaszok
URL:https://relnet.hu/en/rendezveny/utmutato-az-acronis-cyber-protect-cloud-bevezetesehez-webinarium/
LOCATION:Virtual event
CATEGORIES:Acronis
ATTACH;FMTTYPE=image/jpeg:https://relnet.hu/wp-content/uploads/2025/06/AcronisCyberProtectCLoudWebinar-min.jpg
END:VEVENT
END:VCALENDAR